BEGIN:VCALENDAR
VERSION:2.0
PRODID:-//Venkman&#039;s | 740 Ralph McGill Blvd. - ECPv5.16.1.1//NONSGML v1.0//EN
CALSCALE:GREGORIAN
METHOD:PUBLISH
X-WR-CALNAME:Venkman&#039;s | 740 Ralph McGill Blvd.
X-ORIGINAL-URL:https://venkmans.com
X-WR-CALDESC:Events for Venkman&#039;s | 740 Ralph McGill Blvd.
REFRESH-INTERVAL;VALUE=DURATION:PT1H
X-Robots-Tag:noindex
X-PUBLISHED-TTL:PT1H
BEGIN:VTIMEZONE
TZID:America/New_York
BEGIN:DAYLIGHT
TZOFFSETFROM:-0500
TZOFFSETTO:-0400
TZNAME:EDT
DTSTART:20220313T070000
END:DAYLIGHT
BEGIN:STANDARD
TZOFFSETFROM:-0400
TZOFFSETTO:-0500
TZNAME:EST
DTSTART:20221106T060000
END:STANDARD
END:VTIMEZONE
BEGIN:VEVENT
DTSTART;TZID=America/New_York:20221123T203000
DTEND;TZID=America/New_York:20221123T233000
DTSTAMP:20260425T083215
CREATED:20221005T154932Z
LAST-MODIFIED:20221007T194254Z
UID:46506-1669235400-1669246200@venkmans.com
SUMMARY:Yacht Rock Schooner - A Very Smooth Thanksgiving Night One
DESCRIPTION:  \n8:30pm Doors / 9pm Show | All ages / 21+ to drink with Valid ID \nLimited reserved tables available – act now and reserve your seats! \nNOTE: The Stay-Puft Party Room may be available to reserve for parties of 10-20 guests – up to 10 fully seated\, or up to 20 cocktail style! Email us at music@venkmans.com to secure your reservation.
URL:https://venkmans.com/event/yacht-rock-schooner-a-smooth-thanksgiving-night-1-on-sale-fri-10-7-10am/
CATEGORIES:Music,Ticketed Shows
ATTACH;FMTTYPE=image/png:https://venkmans.com/wp-content/uploads/Yacht-Rock-Schooner-IG-On-Sale-Now.png
END:VEVENT
BEGIN:VEVENT
DTSTART;TZID=America/New_York:20221125T203000
DTEND;TZID=America/New_York:20221125T233000
DTSTAMP:20260425T083215
CREATED:20221005T155308Z
LAST-MODIFIED:20221007T193816Z
UID:46513-1669408200-1669419000@venkmans.com
SUMMARY:Yacht Rock Schooner Night Two:  Black Friday Edition aka An Evening Of Steely Dan
DESCRIPTION:8:30pm Doors / 9pm Show | All ages / 21+ to drink with Valid ID \nLimited reserved tables available – act now and reserve your seats! \nNOTE: The Stay-Puft Party Room may be available to reserve for parties of 10-20 guests – up to 10 fully seated\, or up to 20 cocktail style! Email us at music@venkmans.com to secure your reservation.
URL:https://venkmans.com/event/yacht-rock-schooner-a-very-smooth-thanksgiving-night-two-black-friday-edition-on-sale-fri-10-7-10am/
CATEGORIES:Music,Ticketed Shows
ATTACH;FMTTYPE=image/jpeg:https://venkmans.com/wp-content/uploads/BLACK-FRIDAY-SQ-w-logo.jpg
END:VEVENT
BEGIN:VEVENT
DTSTART;TZID=America/New_York:20221126T203000
DTEND;TZID=America/New_York:20221126T233000
DTSTAMP:20260425T083215
CREATED:20220927T160939Z
LAST-MODIFIED:20221007T194140Z
UID:46464-1669494600-1669505400@venkmans.com
SUMMARY:The REMakes + Special Guests: Splurge
DESCRIPTION:8:30pm Doors / 9pm Show | All ages / 21+ to drink with Valid ID \nLimited reserved party table seats available – act now and reserve yours! \nNOTE:  The Stay-Puft Party Room may be available to reserve for parties of 10-20 guests – up to 10 fully seated\, or up to 20 cocktail style!  Email us at music@venkmans.com to secure your reservation.
URL:https://venkmans.com/event/the-remakes-special-guests-splurge-on-sale-fri-9-30-10am/
CATEGORIES:Music,Ticketed Shows
ATTACH;FMTTYPE=image/png:https://venkmans.com/wp-content/uploads/REMakes-On-Sale-Now-IG.png
END:VEVENT
BEGIN:VEVENT
DTSTART;TZID=America/New_York:20221127T190000
DTEND;TZID=America/New_York:20221127T230000
DTSTAMP:20260425T083215
CREATED:20220630T135918Z
LAST-MODIFIED:20221109T182701Z
UID:46202-1669575600-1669590000@venkmans.com
SUMMARY:The Al Smith Jam Session!
DESCRIPTION:Doors: 7:00PM | Jam: 8:00PM \nAl Smith’s highly successful\, long-running weekly jam session resides back in the city and at Venkman’s. Come see some of the city’s best musicians and singers share their gifts. Plus\, you never know who will sit in because they are on tour and in town.  Get your tickets early to ensure you have a seat at the table of this musical smorgasboard. Produced by Next Level Events & Muddy Water Live in partnership with Al Smith. Stream powered by Volume. #GetOnVolume to stream for free at volume.tv/venkmans
URL:https://venkmans.com/event/the-al-smith-jam-session-5/
CATEGORIES:Music,Ticketed Shows
ATTACH;FMTTYPE=image/jpeg:https://venkmans.com/wp-content/uploads/Resized_r_20220929_110956-1.jpeg
END:VEVENT
END:VCALENDAR