BEGIN:VCALENDAR
VERSION:2.0
PRODID:-//Venkman&#039;s | 740 Ralph McGill Blvd. - ECPv5.16.1.1//NONSGML v1.0//EN
CALSCALE:GREGORIAN
METHOD:PUBLISH
X-WR-CALNAME:Venkman&#039;s | 740 Ralph McGill Blvd.
X-ORIGINAL-URL:https://venkmans.com
X-WR-CALDESC:Events for Venkman&#039;s | 740 Ralph McGill Blvd.
REFRESH-INTERVAL;VALUE=DURATION:PT1H
X-Robots-Tag:noindex
X-PUBLISHED-TTL:PT1H
BEGIN:VTIMEZONE
TZID:America/New_York
BEGIN:DAYLIGHT
TZOFFSETFROM:-0500
TZOFFSETTO:-0400
TZNAME:EDT
DTSTART:20200308T070000
END:DAYLIGHT
BEGIN:STANDARD
TZOFFSETFROM:-0400
TZOFFSETTO:-0500
TZNAME:EST
DTSTART:20201101T060000
END:STANDARD
END:VTIMEZONE
BEGIN:VEVENT
DTSTART;TZID=America/New_York:20200131T183000
DTEND;TZID=America/New_York:20200131T183000
DTSTAMP:20260424T121755
CREATED:20191203T234222Z
LAST-MODIFIED:20191217T210219Z
UID:45606-1580495400-1580495400@venkmans.com
SUMMARY:Free Dinner Show: Musical Tribute to Jerry Garcia and David Grisman by the Foothill Brothers
DESCRIPTION:Join The Foothill Brothers for two sets from the musical catalogue from Jerry Garcia and David Grisman. Come have your Teddy Bear’s Picnic dinner with us! \nThe Foothill Brothers are an eclectic\, genre-bending\, acoustic act from Atlanta\, Ga. They use mandolin and guitar to mold different genres into a sonic delight. Rooted in Americana\, Bluegrass\, Jazz and R&B\, Newgrass\, and Rock\, The Foothill Brothers are sure to leave you with a smile on your face\, and a boogie in your step. \nTICKETING & RESERVATION INFO: \nTickets are not needed for FREE shows. Dinner reservations are encouraged and can be made at Venkmans.com (RESERVE) or by emailing info@venkmans.com
URL:https://venkmans.com/event/free-dinner-show-musical-tribute-to-jerry-garcia-and-david-grisman-by-the-foothill-brothers-5/
CATEGORIES:Ticketed Shows
END:VEVENT
BEGIN:VEVENT
DTSTART;TZID=America/New_York:20200131T220000
DTEND;TZID=America/New_York:20200131T220000
DTSTAMP:20260424T121755
CREATED:20191203T163003Z
LAST-MODIFIED:20200123T225516Z
UID:45586-1580508000-1580508000@venkmans.com
SUMMARY:Mustache the Band (90s Country Party) at Venkman's
DESCRIPTION:The World’s Most Powerful 90’s Country Party Band! \nMustache The Band is the 90’s Country Party Band that will “grow on you.” Mustache delivers a powerful performance of all the country hits from the 1990’s. With over 140 songs under their buckles\, you are guaranteed to have a non-stop party on your hands. Mustache The Band will take you on a journey back into the 90’s: A time when sleeveless tanks\, mullets\, and mustaches ruled Country Music. In order to set the tone at every show the fans are provided mustaches. If you’re ready to leave the “Bro Country” at home\, and get down on the farm – Mustache The Band will take you there! \nTICKETING & RESERVATION INFO: \nPurchasing a General Admission ticket does not guarantee a seat/table and will be STANDING ROOM ONLY. \nAdditional reservations are not required if a table\, booth\, or banquette has been purchased via Big Tickets. \nReservations for the Captain’s Room (semi-private dining room) can be reserved for parties of 12-24 guests. For more info contact info@venkmans.com
URL:https://venkmans.com/event/mustache-the-band-90s-country-party-at-venkmans-3/
CATEGORIES:Ticketed Shows
END:VEVENT
BEGIN:VEVENT
DTSTART;TZID=America/New_York:20200201T103000
DTEND;TZID=America/New_York:20200201T103000
DTSTAMP:20260424T121755
CREATED:20191227T234110Z
LAST-MODIFIED:20191227T234110Z
UID:45653-1580553000-1580553000@venkmans.com
SUMMARY:Princess Brunch: The Little Mermaid
DESCRIPTION:Come join us under the sea as we brunch along to “The Little Mermaid”. Join Ariel and pals on a journey to true love and discovery. This one is full of so many hits\, we invite you to sing-along! Free with RSVP. Bottomless mimosas (for the adult kids) available for purchase!  \nTickets are not available for FREE shows. For seating at a FREE show\, please make reservations for the appropriate time at www.venkmans.com (RESERVE)
URL:https://venkmans.com/event/princess-brunch-the-little-mermaid-14/
CATEGORIES:Ticketed Shows
END:VEVENT
END:VCALENDAR