BEGIN:VCALENDAR
VERSION:2.0
PRODID:-//Venkman&#039;s | 740 Ralph McGill Blvd. - ECPv5.16.1.1//NONSGML v1.0//EN
CALSCALE:GREGORIAN
METHOD:PUBLISH
X-WR-CALNAME:Venkman&#039;s | 740 Ralph McGill Blvd.
X-ORIGINAL-URL:https://venkmans.com
X-WR-CALDESC:Events for Venkman&#039;s | 740 Ralph McGill Blvd.
REFRESH-INTERVAL;VALUE=DURATION:PT1H
X-Robots-Tag:noindex
X-PUBLISHED-TTL:PT1H
BEGIN:VTIMEZONE
TZID:America/New_York
BEGIN:DAYLIGHT
TZOFFSETFROM:-0500
TZOFFSETTO:-0400
TZNAME:EDT
DTSTART:20200308T070000
END:DAYLIGHT
BEGIN:STANDARD
TZOFFSETFROM:-0400
TZOFFSETTO:-0500
TZNAME:EST
DTSTART:20201101T060000
END:STANDARD
END:VTIMEZONE
BEGIN:VEVENT
DTSTART;TZID=America/New_York:20200130T200000
DTEND;TZID=America/New_York:20200130T200000
DTSTAMP:20260424T121800
CREATED:20191205T173952Z
LAST-MODIFIED:20191205T173952Z
UID:45618-1580414400-1580414400@venkmans.com
SUMMARY:Forever '78 with Greg\, Bencoo & Monkeyboy from Yacht Rock Revue
DESCRIPTION:Billboard Hits of 1978 from artists like Billy Joel\, Bob Seger\, James Taylor\, Willie Nelson\, Bonnie Tyler\, Meat Loaf\, Kenny Rogers and more!  \nTICKETING & RESERVATION INFO:  \nPlease note: Communal seating is in the bar area at a high-top table and will be seated first come\, first serve as ticket holders for these seats arrive.  \nGeneral Admission will be standing room only once all bar seats are occupied at our main bar or kitchen bar.  \nAdditional reservations are not required if a table\, booth or banquette have been purchased via Big Tickets.  \nReservations for the Captain’s Room (private dining room) can be reserved for parties of 10-24 guests. For more info contact info@venkmans.com
URL:https://venkmans.com/event/forever-78-with-greg-bencoo-monkeyboy-from-yacht-rock-revue-4/
CATEGORIES:Ticketed Shows
END:VEVENT
END:VCALENDAR