BEGIN:VCALENDAR
VERSION:2.0
PRODID:-//Venkman&#039;s | 740 Ralph McGill Blvd. - ECPv5.16.1.1//NONSGML v1.0//EN
CALSCALE:GREGORIAN
METHOD:PUBLISH
X-WR-CALNAME:Venkman&#039;s | 740 Ralph McGill Blvd.
X-ORIGINAL-URL:https://venkmans.com
X-WR-CALDESC:Events for Venkman&#039;s | 740 Ralph McGill Blvd.
REFRESH-INTERVAL;VALUE=DURATION:PT1H
X-Robots-Tag:noindex
X-PUBLISHED-TTL:PT1H
BEGIN:VTIMEZONE
TZID:America/New_York
BEGIN:DAYLIGHT
TZOFFSETFROM:-0500
TZOFFSETTO:-0400
TZNAME:EDT
DTSTART:20200308T070000
END:DAYLIGHT
BEGIN:STANDARD
TZOFFSETFROM:-0400
TZOFFSETTO:-0500
TZNAME:EST
DTSTART:20201101T060000
END:STANDARD
END:VTIMEZONE
BEGIN:VEVENT
DTSTART;TZID=America/New_York:20200129T173000
DTEND;TZID=America/New_York:20200129T233000
DTSTAMP:20260424T153524
CREATED:20190519T051308Z
LAST-MODIFIED:20200110T214302Z
UID:44993-1580319000-1580340600@venkmans.com
SUMMARY:Closed for Private Event
DESCRIPTION:We will be closed for a private event this evening. \nTo book your own private event contact Jarvis@venkmans.com. \nCheers!
URL:https://venkmans.com/event/closed-for-private-event-4/
CATEGORIES:Free Shows
END:VEVENT
END:VCALENDAR