BEGIN:VCALENDAR
VERSION:2.0
PRODID:-//Venkman&#039;s | 740 Ralph McGill Blvd. - ECPv5.16.1.1//NONSGML v1.0//EN
CALSCALE:GREGORIAN
METHOD:PUBLISH
X-ORIGINAL-URL:https://venkmans.com
X-WR-CALDESC:Events for Venkman&#039;s | 740 Ralph McGill Blvd.
REFRESH-INTERVAL;VALUE=DURATION:PT1H
X-Robots-Tag:noindex
X-PUBLISHED-TTL:PT1H
BEGIN:VTIMEZONE
TZID:America/New_York
BEGIN:DAYLIGHT
TZOFFSETFROM:-0500
TZOFFSETTO:-0400
TZNAME:EDT
DTSTART:20200308T070000
END:DAYLIGHT
BEGIN:STANDARD
TZOFFSETFROM:-0400
TZOFFSETTO:-0500
TZNAME:EST
DTSTART:20201101T060000
END:STANDARD
END:VTIMEZONE
BEGIN:VEVENT
DTSTART;TZID=America/New_York:20200125T123000
DTEND;TZID=America/New_York:20200125T123000
DTSTAMP:20260424T135906
CREATED:20191203T235555Z
LAST-MODIFIED:20191203T235555Z
UID:45609-1579955400-1579955400@venkmans.com
SUMMARY:Bottomless Mimosa Brunch w/ Michael Magno
DESCRIPTION:Join us for the smoothest bottomless mimosa brunch ever Michael Magno. Come brunch and sing along with the smoothest mixtape hits of the 70s and 80s. The perfect pairing with bottomless mimosas.  \nTICKETING & RESERVATION INFO: \nTickets are not available for FREE shows. For seating at a FREE show\, please make reservations for the appropriate time at www.venkmans.com (see “Reservations”)\, or by calling 470-225-6162.
URL:https://venkmans.com/event/bottomless-mimosa-brunch-w-michael-magno-14/
CATEGORIES:Ticketed Shows
END:VEVENT
BEGIN:VEVENT
DTSTART;TZID=America/New_York:20200125T183000
DTEND;TZID=America/New_York:20200125T183000
DTSTAMP:20260424T135906
CREATED:20200103T174941Z
LAST-MODIFIED:20200103T174941Z
UID:45664-1579977000-1579977000@venkmans.com
SUMMARY:Free Show: Acoustic Tribute to CCR w/ Lightnin' Ray
DESCRIPTION:Come jam out to your favorite Creedence Clearwater Revival tunes performed by Lightnin’ Ray. This show is FREE. Dinner reservations available at Venkmans.com (RESERVE). Parties of 8 or more contact info@venkmans.com. 
URL:https://venkmans.com/event/free-show-acoustic-tribute-to-ccr-w-lightnin-ray/
CATEGORIES:Ticketed Shows
END:VEVENT
BEGIN:VEVENT
DTSTART;TZID=America/New_York:20200125T213000
DTEND;TZID=America/New_York:20200125T213000
DTSTAMP:20260424T135906
CREATED:20191130T234023Z
LAST-MODIFIED:20191130T234023Z
UID:45584-1579987800-1579987800@venkmans.com
SUMMARY:The REMakes - A Tribute to the Early Catalogue of R.E.M.
DESCRIPTION:Atlanta R.E.M. tribute band the REMakes knows that imitation is the sincerest form of flattery. That’s the reason their covers of songs from R.E.M.’s early catalog (ranging from Chronic Town to Monster) are authentic and true to the original recordings. Playing the band’s biggest hits as well as deep album tracks\, the REMakes take their audience on a musical ride back to 1980s’ Athens\, Ga.  \nLead singer and guitar player Geoff Melkonian and bass player and backing vocalist Jeff Rosenberg have been playing together since they were 14 and R.E.M. was still an underground band. Melkonian and drummer Webb Vandiver began jamming when they were in their early 20s. Out of a love and passion for the music they grew up with\, the three musicians came together in 2009 as the REMakes.  \nTICKETING & RESERVATION INFO:  \nPurchasing a General Admission ticket does not guarantee a seat/table and will be STANDING ROOM ONLY  \nAdditional reservations are not required if a table\, booth\, or banquette has been purchased via Big Tickets.  \nPLEASE NOTE: If earlier dinner reservations are made\, your seats are not guaranteed for the show. For example\, you cannot reserve a table at 8:00pm and keep it for a 10:00pm show. The only way to guarantee a seat for the show is to purchase booth or banquette tickets. \nReservations for the Captain’s Room (private dining room) can be reserved for parties of 12-24 guests. For more info contact info@venkmans.com
URL:https://venkmans.com/event/the-remakes-a-tribute-to-the-early-catalogue-of-r-e-m-12/
CATEGORIES:Ticketed Shows
END:VEVENT
END:VCALENDAR