BEGIN:VCALENDAR
VERSION:2.0
PRODID:-//Venkman&#039;s | 740 Ralph McGill Blvd. - ECPv5.16.1.1//NONSGML v1.0//EN
CALSCALE:GREGORIAN
METHOD:PUBLISH
X-WR-CALNAME:Venkman&#039;s | 740 Ralph McGill Blvd.
X-ORIGINAL-URL:https://venkmans.com
X-WR-CALDESC:Events for Venkman&#039;s | 740 Ralph McGill Blvd.
REFRESH-INTERVAL;VALUE=DURATION:PT1H
X-Robots-Tag:noindex
X-PUBLISHED-TTL:PT1H
BEGIN:VTIMEZONE
TZID:America/New_York
BEGIN:DAYLIGHT
TZOFFSETFROM:-0500
TZOFFSETTO:-0400
TZNAME:EDT
DTSTART:20200308T070000
END:DAYLIGHT
BEGIN:STANDARD
TZOFFSETFROM:-0400
TZOFFSETTO:-0500
TZNAME:EST
DTSTART:20201101T060000
END:STANDARD
END:VTIMEZONE
BEGIN:VEVENT
DTSTART;TZID=America/New_York:20200124T183000
DTEND;TZID=America/New_York:20200124T183000
DTSTAMP:20260424T153606
CREATED:20191203T234218Z
LAST-MODIFIED:20191203T234218Z
UID:45602-1579890600-1579890600@venkmans.com
SUMMARY:Free Early Show: The Music of Dazed & Confused\, Caroline & Tommy
DESCRIPTION:Join musical prodigies Tommy and Caroline for an evening of the hits from the iconic movie soundtrack “Dazed and Confused” and more! Tickets are not needed for free shows. Dinner reservations are encouraged and can be made at Venkmans.com or by emailing info@venkmans.com. Walk-ins always welcome! 
URL:https://venkmans.com/event/free-early-show-the-music-of-dazed-confused-caroline-tommy-2/
CATEGORIES:Ticketed Shows
END:VEVENT
BEGIN:VEVENT
DTSTART;TZID=America/New_York:20200124T213000
DTEND;TZID=America/New_York:20200124T213000
DTSTAMP:20260424T153606
CREATED:20191122T001706Z
LAST-MODIFIED:20200117T215138Z
UID:45574-1579901400-1579901400@venkmans.com
SUMMARY:ATL Apres Ski Party with Webster ft. Mystery Cassette
DESCRIPTION:There’s no party like an apres ski party! After a hard day of burning cruisers on the Beltline\, shredding the steeps of Stone Mountain\, or just exploring the backcountry of Piedmont Park… we have your Winter After Party. \nWarm toasty jams and Rocky Mtn drink specials await. Classic hippie jams\, Blues rave-ups\, Sing-alongs you know by heart\, and Dance\, dance and more dance. All delivered in the convivial\, free-flowing\, slopestyle\, Dead show style you expect from a Webster Jam. \nThe ATL is not known for the excellence of its slopes\, but now we have the second-best part of skiing… The Apres ski party. Look out Aspen… ATL’s Apres Party is going down Jan 24th.TICKETING & RESERVATION INFO: \nPlease note: Communal seating is in the bar area at a high-top table and will be seated first-come\, first-serve as ticket holders for these seats arrive. \nGeneral Admission will be standing room only once all bar seats are occupied at our main bar or kitchen bar. \nAdditional reservations are not required if a table\, booth or banquette have been purchased via Big Tickets.
URL:https://venkmans.com/event/atl-apres-ski-party-with-webster-ft-mystery-casette/
CATEGORIES:Ticketed Shows
ATTACH;FMTTYPE=image/jpeg:https://venkmans.com/wp-content/uploads/apres-ski-poster.jpg
END:VEVENT
END:VCALENDAR