BEGIN:VCALENDAR
VERSION:2.0
PRODID:-//Venkman&#039;s | 740 Ralph McGill Blvd. - ECPv5.16.1.1//NONSGML v1.0//EN
CALSCALE:GREGORIAN
METHOD:PUBLISH
X-ORIGINAL-URL:https://venkmans.com
X-WR-CALDESC:Events for Venkman&#039;s | 740 Ralph McGill Blvd.
REFRESH-INTERVAL;VALUE=DURATION:PT1H
X-Robots-Tag:noindex
X-PUBLISHED-TTL:PT1H
BEGIN:VTIMEZONE
TZID:America/New_York
BEGIN:DAYLIGHT
TZOFFSETFROM:-0500
TZOFFSETTO:-0400
TZNAME:EDT
DTSTART:20200308T070000
END:DAYLIGHT
BEGIN:STANDARD
TZOFFSETFROM:-0400
TZOFFSETTO:-0500
TZNAME:EST
DTSTART:20201101T060000
END:STANDARD
END:VTIMEZONE
BEGIN:VEVENT
DTSTART;TZID=America/New_York:20200123T200000
DTEND;TZID=America/New_York:20200123T200000
DTSTAMP:20260424T153641
CREATED:20191120T215004Z
LAST-MODIFIED:20191120T215004Z
UID:45572-1579809600-1579809600@venkmans.com
SUMMARY:The Atlanta Latin Jazz Orchestra
DESCRIPTION:New on the scene in Atlanta\, the Atlanta Latin Jazz Orchestra is the hottest sound in Latin Jazz in the Southeast. Featuring music from the legends – Tito Puente\, Dizzy Gillespie\, and Perez Prado – and the latest in Latin Jazz Big Band – Michael Philip Mossman\, Michel Camilo\, and more\, the ALJO will make it almost impossible to sit still. Featuring some of the finest musicians in the Southeast\, and led by Atlanta music scene veteran Rob Opitz\, the ALJO makes even the most difficult music sound easy. Check us out on Facebook and online at www.atlantaljo.com. *special Guests Lovett High School Big Band \nTICKETING AND RESERVATION INFO:  \nNo further reservations required when purchasing Banquette\, Table\, or Booth tickets via Big Tickets.  \nGeneral Admission seating may be available in the bar area on a first come\, first serve basis. Once all bar seating is gone standign room remains. 
URL:https://venkmans.com/event/the-atlanta-latin-jazz-orchestra-8/
CATEGORIES:Ticketed Shows
END:VEVENT
END:VCALENDAR