BEGIN:VCALENDAR
VERSION:2.0
PRODID:-//Venkman&#039;s | 740 Ralph McGill Blvd. - ECPv5.16.1.1//NONSGML v1.0//EN
CALSCALE:GREGORIAN
METHOD:PUBLISH
X-WR-CALNAME:Venkman&#039;s | 740 Ralph McGill Blvd.
X-ORIGINAL-URL:https://venkmans.com
X-WR-CALDESC:Events for Venkman&#039;s | 740 Ralph McGill Blvd.
REFRESH-INTERVAL;VALUE=DURATION:PT1H
X-Robots-Tag:noindex
X-PUBLISHED-TTL:PT1H
BEGIN:VTIMEZONE
TZID:America/New_York
BEGIN:DAYLIGHT
TZOFFSETFROM:-0500
TZOFFSETTO:-0400
TZNAME:EDT
DTSTART:20200308T070000
END:DAYLIGHT
BEGIN:STANDARD
TZOFFSETFROM:-0400
TZOFFSETTO:-0500
TZNAME:EST
DTSTART:20201101T060000
END:STANDARD
END:VTIMEZONE
BEGIN:VEVENT
DTSTART;TZID=America/New_York:20200117T183000
DTEND;TZID=America/New_York:20200117T183000
DTSTAMP:20260424T171233
CREATED:20191203T234219Z
LAST-MODIFIED:20191203T234219Z
UID:45603-1579285800-1579285800@venkmans.com
SUMMARY:FREE EARLY SHOW: Jazz Renditions of Pop Hits with Time Warp Orchestra
DESCRIPTION:Time Warp Orchestra is an evolving collective of Atlanta musicians that puts a spin on modern music.  \nTICKETING & RESERVATION INFO:  \nTickets are not available for FREE shows. For seating at a FREE show\, please make reservations for the appropriate time at www.venkmans.com (see “Reservations”)\, or by calling 470-225-6162.
URL:https://venkmans.com/event/free-early-show-jazz-renditions-of-pop-hits-with-time-warp-orchestra-8/
CATEGORIES:Ticketed Shows
END:VEVENT
BEGIN:VEVENT
DTSTART;TZID=America/New_York:20200117T213000
DTEND;TZID=America/New_York:20200117T213000
DTSTAMP:20260424T171233
CREATED:20191210T164311Z
LAST-MODIFIED:20191217T212450Z
UID:45620-1579296600-1579296600@venkmans.com
SUMMARY:One in a Million: Aaliyah Tribute starring Kari Epps
DESCRIPTION:Milwaukee-born Kari Epps started her career singing in the church and had expanded from gospel to classical\, jazz\, and rhythm and blues by the time she reached the age of six. An all-around entertainer\, Epps’ angelic voice is matched by her powerful vocals and engaging on-stage presence. Kari is inspired by the greats like Aretha\, Whitney\, Sade\, Brandy\, and Aaliyah.\n\nAaliyah was catapulted into stardom as a teen when “Age Ain’t Nothing But A Number” earned platinum status in 1994. In 1996 she received acclaimed commercial success\, when she entered the studio with Missy Misdemeanor Elliot on “One In A Million.” Aailiyah would continue to produce a series of chart-topping hits along with growing a film career until her untimely\, tragic airplane accident in 2001. Aailiyah remains and inspiration to so many young artists today and Venkman’s welcomes this tribute to fans up for a night on the town. \nPurchasing a General Admission ticket does not guarantee a seat/table and will be STANDING ROOM ONLY. It is strongly encouraged to purchase tickets in advance to ensure seating. Additional reservations are not required if a table\, booth\, or banquette has been purchased via Big Tickets. \nReservations for the Captain’s Room (private dining room) can be reserved for parties of 12-24 guests. For more info contact info@venkmans.com.
URL:https://venkmans.com/event/one-in-a-million-aaliyah-tribute-starring-kari-epps/
CATEGORIES:Ticketed Shows
ATTACH;FMTTYPE=image/jpeg:https://venkmans.com/wp-content/uploads/KEppsFB.jpg
END:VEVENT
BEGIN:VEVENT
DTSTART;TZID=America/New_York:20200118T103000
DTEND;TZID=America/New_York:20200118T120000
DTSTAMP:20260424T171233
CREATED:20191227T234110Z
LAST-MODIFIED:20200108T184847Z
UID:45654-1579343400-1579348800@venkmans.com
SUMMARY:Princess Brunch: Aladdin
DESCRIPTION:Join us at the V for a magic carpet ride! In this dazzling fantasy based on the Arabian Nights folktale\, street urchin Aladdin comes into possession of a magic lamp and uses its power to woo a princess; as the lamp’s wisecracking Genie\, Robin Williams is at his stream-of-consciousness best. Free with RSVP. Bottomless mimosas ($20/person) for the adult kids! \nTICKETING & RESERVATION INFO: \nTickets are not available for FREE shows. For seating at a FREE show\, please make reservations for the appropriate time at venkmans.com (RESERVE)
URL:https://venkmans.com/event/princess-brunch-aladdin/
CATEGORIES:Ticketed Shows
END:VEVENT
END:VCALENDAR