BEGIN:VCALENDAR
VERSION:2.0
PRODID:-//Venkman&#039;s | 740 Ralph McGill Blvd. - ECPv5.16.1.1//NONSGML v1.0//EN
CALSCALE:GREGORIAN
METHOD:PUBLISH
X-ORIGINAL-URL:https://venkmans.com
X-WR-CALDESC:Events for Venkman&#039;s | 740 Ralph McGill Blvd.
REFRESH-INTERVAL;VALUE=DURATION:PT1H
X-Robots-Tag:noindex
X-PUBLISHED-TTL:PT1H
BEGIN:VTIMEZONE
TZID:America/New_York
BEGIN:DAYLIGHT
TZOFFSETFROM:-0500
TZOFFSETTO:-0400
TZNAME:EDT
DTSTART:20200308T070000
END:DAYLIGHT
BEGIN:STANDARD
TZOFFSETFROM:-0400
TZOFFSETTO:-0500
TZNAME:EST
DTSTART:20201101T060000
END:STANDARD
END:VTIMEZONE
BEGIN:VEVENT
DTSTART;TZID=America/New_York:20200116T200000
DTEND;TZID=America/New_York:20200116T200000
DTSTAMP:20260424T135907
CREATED:20191120T184704Z
LAST-MODIFIED:20191120T184704Z
UID:45571-1579204800-1579204800@venkmans.com
SUMMARY:FREE SHOW: The Landing Party! Acoustic Yacht Rock with members of Yacht Rock Schooner
DESCRIPTION:The smoothest hits from the ’70s and ’80s without those pesky drums! Hits from the Bee Gees\, America\, Marvin Gaye\, Hall & Oates\, Michael McDonald and more!! Featuring Ganesh Giri Jaya\, Douglas Busbee and Cleaveland Jones.  \nThis is a FREE event. FREE events do not require tickets but dinner reservations are encouraged! See Venkmans.com (RESERVE)
URL:https://venkmans.com/event/free-show-the-landing-party-acoustic-yacht-rock-with-members-of-yacht-rock-schooner-7/
CATEGORIES:Ticketed Shows
END:VEVENT
END:VCALENDAR