BEGIN:VCALENDAR
VERSION:2.0
PRODID:-//Venkman&#039;s | 740 Ralph McGill Blvd. - ECPv5.16.1.1//NONSGML v1.0//EN
CALSCALE:GREGORIAN
METHOD:PUBLISH
X-ORIGINAL-URL:https://venkmans.com
X-WR-CALDESC:Events for Venkman&#039;s | 740 Ralph McGill Blvd.
REFRESH-INTERVAL;VALUE=DURATION:PT1H
X-Robots-Tag:noindex
X-PUBLISHED-TTL:PT1H
BEGIN:VTIMEZONE
TZID:America/New_York
BEGIN:DAYLIGHT
TZOFFSETFROM:-0500
TZOFFSETTO:-0400
TZNAME:EDT
DTSTART:20200308T070000
END:DAYLIGHT
BEGIN:STANDARD
TZOFFSETFROM:-0400
TZOFFSETTO:-0500
TZNAME:EST
DTSTART:20201101T060000
END:STANDARD
END:VTIMEZONE
BEGIN:VEVENT
DTSTART;TZID=America/New_York:20200110T183000
DTEND;TZID=America/New_York:20200110T183000
DTSTAMP:20260424T170355
CREATED:20191203T234220Z
LAST-MODIFIED:20191203T234220Z
UID:45604-1578681000-1578681000@venkmans.com
SUMMARY:Free Show: Allman Brothers Acoustic Tribute w/ Alex Gannon + Andrew Venet
DESCRIPTION:Local Atlanta guitarist Alex Gannon is joined by upright bassist Andrew Venet for an acoustic evening of Allman Brotherssongs. \nThe duo will be performing their acoustic rendition of selections from the jam band’s expansive album catalogue. \nTICKETING & RESERVATION INFO:  \nTickets are not available for FREE shows. For seating at a FREE show\, please make reservations for the appropriate time at www.venkmans.com (see “Reservations”)\, or by calling 470-225-6162.
URL:https://venkmans.com/event/free-show-allman-brothers-acoustic-tribute-w-alex-gannon-andrew-venet-2/
CATEGORIES:Ticketed Shows
END:VEVENT
BEGIN:VEVENT
DTSTART;TZID=America/New_York:20200110T213000
DTEND;TZID=America/New_York:20200110T213000
DTSTAMP:20260424T170355
CREATED:20191121T181047Z
LAST-MODIFIED:20191121T181047Z
UID:45573-1578691800-1578691800@venkmans.com
SUMMARY:Laugh Tracks + Fanny Packs: 80s Music and Comedy ft. Members Only
DESCRIPTION:Get your laughs and fanny packs ready for the best 80’s dance party and comedy show in Atlanta! This energetic event kicks off with a comedy show featuring Atlanta’s top comics dressed in their best neon and high tops\, and then moves and grooves into a dance party featuring “the nation’s premiere 80’s tribute band” MembersOnly. Don’t miss out on this super rad night of non-stop laughs & nostalgic hits! \nTICKETING & RESERVATION INFO: \nPurchasing a General Admission ticket does not guarantee a seat/table and may be standing room only. \nAdditional reservations are not required if a table\, booth or banquette have been purchased via Big Tickets. \nPLEASE NOTE: If earlier dinner reservations are made\, your seats are not guaranteed for the show. For example\, it is unlikely to be able to reserve a table at 7:00 pm and keep it for a 9:30 pm show. The only way to guarantee a seat for the show is to purchase table\, booth\, or banquette tickets. \nReservations for the Captain’s Room (private dining room) can be reserved for parties of 12-20 guests. For more info contact info@venkmans.com. 
URL:https://venkmans.com/event/laugh-tracks-fanny-packs-80s-music-and-comedy-ft-members-only/
CATEGORIES:Ticketed Shows
END:VEVENT
BEGIN:VEVENT
DTSTART;TZID=America/New_York:20200111T103000
DTEND;TZID=America/New_York:20200111T103000
DTSTAMP:20260424T170355
CREATED:20191227T232731Z
LAST-MODIFIED:20191227T232731Z
UID:45652-1578738600-1578738600@venkmans.com
SUMMARY:Princess Brunch: SING!
DESCRIPTION:You’re invited to join us at The V for a family-friendly screening of “SING!”  \nDapper Koala Buster Moon presides over a once-grand theater that has fallen on hard times. An eternal optimist\, and a bit of a scoundrel\, he loves his theater above all and will do anything to preserve it. Facing the crumbling of his life’s ambition\, he takes one final chance to restore his fading jewel to its former glory by producing the world’s greatest singing competition.  \nTickets are not available for FREE shows. For seating at a FREE show\, please make reservations for the appropriate time at venkmans.com (RESERVE)
URL:https://venkmans.com/event/princess-brunch-sing-5/
CATEGORIES:Ticketed Shows
END:VEVENT
END:VCALENDAR