BEGIN:VCALENDAR
VERSION:2.0
PRODID:-//Venkman&#039;s | 740 Ralph McGill Blvd. - ECPv5.16.1.1//NONSGML v1.0//EN
CALSCALE:GREGORIAN
METHOD:PUBLISH
X-ORIGINAL-URL:https://venkmans.com
X-WR-CALDESC:Events for Venkman&#039;s | 740 Ralph McGill Blvd.
REFRESH-INTERVAL;VALUE=DURATION:PT1H
X-Robots-Tag:noindex
X-PUBLISHED-TTL:PT1H
BEGIN:VTIMEZONE
TZID:America/New_York
BEGIN:DAYLIGHT
TZOFFSETFROM:-0500
TZOFFSETTO:-0400
TZNAME:EDT
DTSTART:20200308T070000
END:DAYLIGHT
BEGIN:STANDARD
TZOFFSETFROM:-0400
TZOFFSETTO:-0500
TZNAME:EST
DTSTART:20201101T060000
END:STANDARD
END:VTIMEZONE
BEGIN:VEVENT
DTSTART;TZID=America/New_York:20200109T200000
DTEND;TZID=America/New_York:20200109T200000
DTSTAMP:20260424T135904
CREATED:20191204T011044Z
LAST-MODIFIED:20191204T011044Z
UID:45614-1578600000-1578600000@venkmans.com
SUMMARY:Timeless ATL at Venkman's
DESCRIPTION: Atlanta’s Premier Curated Open-Mic Experience. Curated by Atlanta’s own Brandon Thomas\, guitarist for Leon Bridges. A night of live performances from Atlanta’s best-rising artists backed by an incredible house band.  \nTICKETING & RESERVATION INFO: \nPlease note: Communal seating is in the bar area at a high-top table and will be seated first come\, first serve as ticket holders for these seats arrive.  \nGeneral Admission will be standing room only once all bar seats are occupied at our main bar or kitchen bar.  \nAdditional reservations are not required if a table\, booth or banquette have been purchased via Big Tickets.
URL:https://venkmans.com/event/timeless-atl-at-venkmans-5/
CATEGORIES:Ticketed Shows
END:VEVENT
END:VCALENDAR