BEGIN:VCALENDAR
VERSION:2.0
PRODID:-//Venkman&#039;s | 740 Ralph McGill Blvd. - ECPv5.16.1.1//NONSGML v1.0//EN
CALSCALE:GREGORIAN
METHOD:PUBLISH
X-ORIGINAL-URL:https://venkmans.com
X-WR-CALDESC:Events for Venkman&#039;s | 740 Ralph McGill Blvd.
REFRESH-INTERVAL;VALUE=DURATION:PT1H
X-Robots-Tag:noindex
X-PUBLISHED-TTL:PT1H
BEGIN:VTIMEZONE
TZID:America/New_York
BEGIN:DAYLIGHT
TZOFFSETFROM:-0500
TZOFFSETTO:-0400
TZNAME:EDT
DTSTART:20200308T070000
END:DAYLIGHT
BEGIN:STANDARD
TZOFFSETFROM:-0400
TZOFFSETTO:-0500
TZNAME:EST
DTSTART:20201101T060000
END:STANDARD
END:VTIMEZONE
BEGIN:VEVENT
DTSTART;TZID=America/New_York:20200105T120000
DTEND;TZID=America/New_York:20200105T120000
DTSTAMP:20260424T104306
CREATED:20191203T235553Z
LAST-MODIFIED:20191203T235553Z
UID:45608-1578225600-1578225600@venkmans.com
SUMMARY:Bottomless Mimosa Brunch w/ Trio Deluxe
DESCRIPTION:TRIO DELUXE – smoky American Songbook standards and hot virtuosity from some of the best Athens/Atlanta musicians around: Andrea DeMarcus (Cicada Rhythm)\, Dan Coy (Bonaventure Quartet)\, and John Norris (lots of Athens bands). \nTICKETING & RESERVATION INFO: \nTickets are not available for FREE shows. For seating at a FREE show\, please make reservations for the appropriate time at www.venkmans.com (see “Reservations”)\, or by calling 470-225-6162.
URL:https://venkmans.com/event/bottomless-mimosa-brunch-w-trio-deluxe-24/
CATEGORIES:Ticketed Shows
END:VEVENT
END:VCALENDAR