BEGIN:VCALENDAR
VERSION:2.0
PRODID:-//Venkman&#039;s | 740 Ralph McGill Blvd. - ECPv5.16.1.1//NONSGML v1.0//EN
CALSCALE:GREGORIAN
METHOD:PUBLISH
X-WR-CALNAME:Venkman&#039;s | 740 Ralph McGill Blvd.
X-ORIGINAL-URL:https://venkmans.com
X-WR-CALDESC:Events for Venkman&#039;s | 740 Ralph McGill Blvd.
REFRESH-INTERVAL;VALUE=DURATION:PT1H
X-Robots-Tag:noindex
X-PUBLISHED-TTL:PT1H
BEGIN:VTIMEZONE
TZID:America/New_York
BEGIN:DAYLIGHT
TZOFFSETFROM:-0500
TZOFFSETTO:-0400
TZNAME:EDT
DTSTART:20200308T070000
END:DAYLIGHT
BEGIN:STANDARD
TZOFFSETFROM:-0400
TZOFFSETTO:-0500
TZNAME:EST
DTSTART:20201101T060000
END:STANDARD
END:VTIMEZONE
BEGIN:VEVENT
DTSTART;TZID=America/New_York:20200104T123000
DTEND;TZID=America/New_York:20200104T123000
DTSTAMP:20260424T085817
CREATED:20191203T234221Z
LAST-MODIFIED:20191203T234221Z
UID:45605-1578141000-1578141000@venkmans.com
SUMMARY:Bottomless Mimosa Brunch with Battlefield Collective
DESCRIPTION:Battlefield Collective is the combined musical talents and efforts of Stephanie Caron and Evan Hart. A unique blend of bluegrass\, Americana\, roots\, and rockabilly give the group an unmistakable and unique sound that is as full of energy as it is passion. \nTouring the southeast\, Battlefield Collective performs original material as well as their own arrangements of cover songs selected from top hits from the past sixty years. Energy and creativity set Battlefield Collective apart from the other bands\, as well as their ability to be flexible and versatile. \nStephanie and Evan perform as a duo\, but also frequently hire local musicians to create a fuller sound to match the needs for any venue or private event. \nTICKETING & RESERVATION INFO: \nTickets are not available for FREE shows. For seating at a FREE show\, please make reservations for the appropriate time at www.venkmans.com (RESERVE)\, or by calling 470-225-6162.
URL:https://venkmans.com/event/bottomless-mimosa-brunch-with-battlefield-collective-8/
CATEGORIES:Ticketed Shows
END:VEVENT
END:VCALENDAR