BEGIN:VCALENDAR
VERSION:2.0
PRODID:-//Venkman&#039;s | 740 Ralph McGill Blvd. - ECPv5.16.1.1//NONSGML v1.0//EN
CALSCALE:GREGORIAN
METHOD:PUBLISH
X-WR-CALNAME:Venkman&#039;s | 740 Ralph McGill Blvd.
X-ORIGINAL-URL:https://venkmans.com
X-WR-CALDESC:Events for Venkman&#039;s | 740 Ralph McGill Blvd.
REFRESH-INTERVAL;VALUE=DURATION:PT1H
X-Robots-Tag:noindex
X-PUBLISHED-TTL:PT1H
BEGIN:VTIMEZONE
TZID:America/New_York
BEGIN:DAYLIGHT
TZOFFSETFROM:-0500
TZOFFSETTO:-0400
TZNAME:EDT
DTSTART:20190310T070000
END:DAYLIGHT
BEGIN:STANDARD
TZOFFSETFROM:-0400
TZOFFSETTO:-0500
TZNAME:EST
DTSTART:20191103T060000
END:STANDARD
END:VTIMEZONE
BEGIN:VEVENT
DTSTART;TZID=America/New_York:20191231T183000
DTEND;TZID=America/New_York:20191231T183000
DTSTAMP:20260424T121745
CREATED:20191129T220157Z
LAST-MODIFIED:20191129T220157Z
UID:45583-1577817000-1577817000@venkmans.com
SUMMARY:Free Family Show: New Friends Day with Bean and Bear
DESCRIPTION:Join Bean and Bear as they ring in New Friend’s Day with their unique blend of Puppetry\, Magic\, and other B.S. (Bizarre Stuff).  Make sure you are there so you can watch the Lemon Drop and celebrate a whole new year of friends!!!  \nFree Show! Dinner reservations can be made at Venkmans.com (RESERVE) Parties of 8 or more please contact info@venkmans.com. Cheers! 
URL:https://venkmans.com/event/free-family-show-new-friends-day-with-bean-and-bear/
CATEGORIES:Ticketed Shows
END:VEVENT
BEGIN:VEVENT
DTSTART;TZID=America/New_York:20191231T213000
DTEND;TZID=America/New_York:20191231T213000
DTSTAMP:20260424T121745
CREATED:20191015T180150Z
LAST-MODIFIED:20191015T180150Z
UID:45505-1577827800-1577827800@venkmans.com
SUMMARY:New Year's Eve with Ruby Velle and the Soulphonics at Venkman's!
DESCRIPTION:Deep\, raw funk. Stax-style Southern soul. Uplifting Motown-channeling anthems. Atlanta’s Ruby Velle and the Soulphonics are the heirs to the thrones of the old-school masters. But they’re much more than just a group of revivalists trying to create a period piece. Powerhouse singer Velle and her band will settle for nothing less than bringing these classic sounds glimmering into the now with a fresh new modern sheen. \nRuby Velle and the Soulphonics have made a name for themselves captivating audiences with their stirring live performances. They’re a world-class modern soul revue topped off with the cherry of Velle’s sultry voice\, as she deftly toggles between sweetly crooned R&B tunes and expertly belted barn-burning get-downs that can instantly jolt a roomful of wallflowers into a wild dance party. \nIt’s this inviting and accessible bravado that has scored the band critical acclaim from outlets such as The New York Daily News\, MTV\, Paste and more. And in addition to their critical success\, at a time when record sales are at an all-time industry low\, the independent\, DIY-minded Velle and the Soulphonics sold a quarter-million downloads of their single “My Dear” on iTunes\, landing them in the top 30 on Billboard’s Heatseeker charts and at a stunning #4 on the iTunes R&B charts when their debut album It’s About Time was released in 2012. Their sophomore album\, entitled State of All Things\, will release in early 2018\, with the first single “Broken Woman” launching at the end of 2017. \nTICKETING & RESERVATION INFO:Doors open at 8:30 PM. If dinner reservations are made between 5:30 PM – 7:00 PM you will be asked to wrap up by 8:30 PM unless you are a ticketd seat holder. All patrons staying for the show MUST purchase a ticket.  \nReservations for the Captain’s Room (private dining room) can be reserved for parties of 12-24 guests. For more info contact info@venkmans.com \nPurchasing a General Admission ticket does not guarantee a seat/table. \nAdditional reservations are not required if a table\, booth or banquette have been purchased via Big Tickets. 
URL:https://venkmans.com/event/new-years-eve-with-ruby-velle-and-the-soulphonics-at-venkmans/
CATEGORIES:Ticketed Shows
END:VEVENT
END:VCALENDAR