BEGIN:VCALENDAR
VERSION:2.0
PRODID:-//Venkman&#039;s | 740 Ralph McGill Blvd. - ECPv5.16.1.1//NONSGML v1.0//EN
CALSCALE:GREGORIAN
METHOD:PUBLISH
X-ORIGINAL-URL:https://venkmans.com
X-WR-CALDESC:Events for Venkman&#039;s | 740 Ralph McGill Blvd.
REFRESH-INTERVAL;VALUE=DURATION:PT1H
X-Robots-Tag:noindex
X-PUBLISHED-TTL:PT1H
BEGIN:VTIMEZONE
TZID:America/New_York
BEGIN:DAYLIGHT
TZOFFSETFROM:-0500
TZOFFSETTO:-0400
TZNAME:EDT
DTSTART:20190310T070000
END:DAYLIGHT
BEGIN:STANDARD
TZOFFSETFROM:-0400
TZOFFSETTO:-0500
TZNAME:EST
DTSTART:20191103T060000
END:STANDARD
END:VTIMEZONE
BEGIN:VEVENT
DTSTART;TZID=America/New_York:20191225T173000
DTEND;TZID=America/New_York:20191225T233000
DTSTAMP:20260424T104412
CREATED:20181226T051832Z
LAST-MODIFIED:20191106T202941Z
UID:44280-1577295000-1577316600@venkmans.com
SUMMARY:Closed - Merry Christmas!
DESCRIPTION:We are closed to be with our families and friends for the Holiday. \nMerry Christmas and Happy Holidays to you all.
URL:https://venkmans.com/event/closed-for-christmas/
CATEGORIES:Free Shows
END:VEVENT
END:VCALENDAR