BEGIN:VCALENDAR
VERSION:2.0
PRODID:-//Venkman&#039;s | 740 Ralph McGill Blvd. - ECPv5.16.1.1//NONSGML v1.0//EN
CALSCALE:GREGORIAN
METHOD:PUBLISH
X-WR-CALNAME:Venkman&#039;s | 740 Ralph McGill Blvd.
X-ORIGINAL-URL:https://venkmans.com
X-WR-CALDESC:Events for Venkman&#039;s | 740 Ralph McGill Blvd.
REFRESH-INTERVAL;VALUE=DURATION:PT1H
X-Robots-Tag:noindex
X-PUBLISHED-TTL:PT1H
BEGIN:VTIMEZONE
TZID:America/New_York
BEGIN:DAYLIGHT
TZOFFSETFROM:-0500
TZOFFSETTO:-0400
TZNAME:EDT
DTSTART:20190310T070000
END:DAYLIGHT
BEGIN:STANDARD
TZOFFSETFROM:-0400
TZOFFSETTO:-0500
TZNAME:EST
DTSTART:20191103T060000
END:STANDARD
END:VTIMEZONE
BEGIN:VEVENT
DTSTART;TZID=America/New_York:20191214T123000
DTEND;TZID=America/New_York:20191214T123000
DTSTAMP:20260424T085818
CREATED:20191106T190702Z
LAST-MODIFIED:20191106T190702Z
UID:45548-1576326600-1576326600@venkmans.com
SUMMARY:Bottomless Mimosa Brunch with Fire & The Knife
DESCRIPTION:Fire & The Knife is composed of JJ Boogie and Nanyana Summer. As an Atlanta based rock band Fire & The Knife combines blues & soul making it into a fresh new southern rock sound. Nanyana’s voice is smooth and beautiful conveying imagery and emotion that’s passionate and spirited. Accompanied by JJ Boogie who also tours with the two time Grammy winning hip hop group Arrested Development he is able to infuse soul & funk flavors into this rock ensemble. From down tempo intimate acoustic vibes to full blown electrifying harmonized guitars Fire & The Knife brings organic and truthful from the heart rock & roll music.  \nRESERVATION INFO:  \nTickets are not available for FREE shows. For seating at a FREE show\, please make reservations for the appropriate time at www.venkmans.com (see “Reservations”)\, or by calling 470-225-6162.
URL:https://venkmans.com/event/bottomless-mimosa-brunch-with-fire-the-knife-7/
CATEGORIES:Ticketed Shows
END:VEVENT
BEGIN:VEVENT
DTSTART;TZID=America/New_York:20191215T103000
DTEND;TZID=America/New_York:20191215T103000
DTSTAMP:20260424T085818
CREATED:20191129T203254Z
LAST-MODIFIED:20191129T203254Z
UID:45581-1576405800-1576405800@venkmans.com
SUMMARY:Free! Elf Movie Screening!
DESCRIPTION:Come out to V’s this season as we celebrate one of the best holiday films ever made! Will Ferrell as North Pole pole-dweller\, Buddy the Elf\, trying to figure out Manhattan just might be his funniest role. “Watch out! The yellow ones don’t stop.”  \nBrunch feast available for elves of all ages!  \nRated: PG \nBrunch reservations are highly encouraged and can be made at www.venkmans.com (see “Reserve”)\, or contact info@venkmans.com
URL:https://venkmans.com/event/free-elf-movie-screening-7/
CATEGORIES:Ticketed Shows
END:VEVENT
END:VCALENDAR