BEGIN:VCALENDAR
VERSION:2.0
PRODID:-//Venkman&#039;s | 740 Ralph McGill Blvd. - ECPv5.16.1.1//NONSGML v1.0//EN
CALSCALE:GREGORIAN
METHOD:PUBLISH
X-WR-CALNAME:Venkman&#039;s | 740 Ralph McGill Blvd.
X-ORIGINAL-URL:https://venkmans.com
X-WR-CALDESC:Events for Venkman&#039;s | 740 Ralph McGill Blvd.
REFRESH-INTERVAL;VALUE=DURATION:PT1H
X-Robots-Tag:noindex
X-PUBLISHED-TTL:PT1H
BEGIN:VTIMEZONE
TZID:America/New_York
BEGIN:DAYLIGHT
TZOFFSETFROM:-0500
TZOFFSETTO:-0400
TZNAME:EDT
DTSTART:20190310T070000
END:DAYLIGHT
BEGIN:STANDARD
TZOFFSETFROM:-0400
TZOFFSETTO:-0500
TZNAME:EST
DTSTART:20191103T060000
END:STANDARD
END:VTIMEZONE
BEGIN:VEVENT
DTSTART;TZID=America/New_York:20191130T123000
DTEND;TZID=America/New_York:20191130T123000
DTSTAMP:20260424T121751
CREATED:20191009T174535Z
LAST-MODIFIED:20191009T174535Z
UID:45492-1575117000-1575117000@venkmans.com
SUMMARY:Bottomless Mimosa Brunch w/ Garrett Collins Project at Venkman's
DESCRIPTION:The Garrett Collins Project is a Funky Blues Based Rock Power Trio based out of Atlanta Georgia. Front man Garrett Collins is a young gun guitar player and vocalist that has been touring up and down the south east for the past three years! Bass player Dennis Stevenson and Drummer Justin Raffield are like a freight train chasing Garrett down the whole show! They push Garrett to a new level every night! This is a group you don’t want to miss! \nRESERVATIONS:  \nThis is a FREE show. Brunch reservations are STRONGLY encouraged and can be made at Venkmans.com (RESERVE) or emailing info@venkmans.com. Cheers!
URL:https://venkmans.com/event/bottomless-mimosa-brunch-w-garrett-collins-project-at-venkmans/
CATEGORIES:Ticketed Shows
END:VEVENT
BEGIN:VEVENT
DTSTART;TZID=America/New_York:20191130T180000
DTEND;TZID=America/New_York:20191130T180000
DTSTAMP:20260424T121751
CREATED:20191107T203929Z
LAST-MODIFIED:20191107T203929Z
UID:45563-1575136800-1575136800@venkmans.com
SUMMARY:FREE FAMILY SHOW: Kids Just Wanna Dance with Somebody
DESCRIPTION:Bring the whole family out for an acoustic set that’s cool with the parents\, and cool with the kids. From Whitney to Moana\, and The Beatles to Trolls\, come sing along! \nTICKETING & RESERVATION INFO: \nTickets are not available for FREE shows. For seating at a FREE show\, please make reservations for the appropriate time at www.venkmans.com (see “Reservations”)\, or by calling 470-225-6162.
URL:https://venkmans.com/event/free-family-show-kids-just-wanna-dance-with-somebody/
CATEGORIES:Ticketed Shows
END:VEVENT
BEGIN:VEVENT
DTSTART;TZID=America/New_York:20191130T213000
DTEND;TZID=America/New_York:20191130T213000
DTSTAMP:20260424T121751
CREATED:20191003T174551Z
LAST-MODIFIED:20191112T154446Z
UID:45474-1575149400-1575149400@venkmans.com
SUMMARY:The REMakes Thanksgiving show!! Celebrating the epic R.E.M. Thanksgiving shows of the ‘80s with special guests.
DESCRIPTION:Atlanta R.E.M. tribute band the REMakes knows that imitation is the sincerest form of flattery. That’s the reason their covers of songs from R.E.M.’s early catalog (ranging from Chronic Town to Monster) are authentic and true to the original recordings. Playing the band’s biggest hits as well as deep album tracks\, the REMakes take their audience on a musical ride back to 1980s’ Athens\, Ga. \nLead singer and guitar player Geoff Melkonian and bass player and backing vocalist Jeff Rosenberg have been playing together since they were 14 and R.E.M. was still an underground band. Melkonian and drummer Webb Vandiver began jamming when they were in their early 20s. Out of a love and passion for the music they grew up with\, the three musicians came together in 2009 as the REMakes. \nTICKETING & RESERVATION INFO: \nPurchasing a General Admission ticket does not guarantee a seat/table and will be STANDING ROOM ONLY \nAdditional reservations are not required if a table\, booth\, or banquette has been purchased via Big Tickets. \nPLEASE NOTE: If earlier dinner reservations are made\, your seats are not guaranteed for the show. For example\, you cannot reserve a table at 8:00pm and keep it for a 10:00pm show. The only way to guarantee a seat for the show is to purchase booth or banquette tickets. \nReservations for the Captain’s Room (private dining room) can be reserved for parties of 12-24 guests. For more info contact info@venkmans.com
URL:https://venkmans.com/event/the-remakes-thanksgiving-show-celebrating-the-epic-r-e-m-thanksgiving-shows-of-the-80s-with-special-guests/
CATEGORIES:Ticketed Shows
ATTACH;FMTTYPE=image/jpeg:https://venkmans.com/wp-content/uploads/remnov.jpg
END:VEVENT
END:VCALENDAR