BEGIN:VCALENDAR
VERSION:2.0
PRODID:-//Venkman&#039;s | 740 Ralph McGill Blvd. - ECPv5.16.1.1//NONSGML v1.0//EN
CALSCALE:GREGORIAN
METHOD:PUBLISH
X-ORIGINAL-URL:https://venkmans.com
X-WR-CALDESC:Events for Venkman&#039;s | 740 Ralph McGill Blvd.
REFRESH-INTERVAL;VALUE=DURATION:PT1H
X-Robots-Tag:noindex
X-PUBLISHED-TTL:PT1H
BEGIN:VTIMEZONE
TZID:America/New_York
BEGIN:DAYLIGHT
TZOFFSETFROM:-0500
TZOFFSETTO:-0400
TZNAME:EDT
DTSTART:20190310T070000
END:DAYLIGHT
BEGIN:STANDARD
TZOFFSETFROM:-0400
TZOFFSETTO:-0500
TZNAME:EST
DTSTART:20191103T060000
END:STANDARD
END:VTIMEZONE
BEGIN:VEVENT
DTSTART;TZID=America/New_York:20191127T203000
DTEND;TZID=America/New_York:20191127T203000
DTSTAMP:20260424T121337
CREATED:20191022T204602Z
LAST-MODIFIED:20191127T000653Z
UID:45512-1574886600-1574886600@venkmans.com
SUMMARY:Yacht Rock Revue Turkey Eve
DESCRIPTION:You’re Welcomesgiving\, Nation of Smooth! \n“Thanksgiving is an emotional holiday. People travel thousands of miles to be with people they only see once a year. And then discover once a year is way too often.” -Johnny Carson \nJoin us for our annual Yacht Rock Turkey Eve show at Venkman’s. \nThe Yacht Rock Revue™ is the Greatest Show on Surf and the finest tribute to ‘70s light rock to ever perform anywhere. Ever. Their spot-on renditions of Hall & Oates\, Michael McDonald\, Steely Dan\, and the rest of the Time-Life Infomercial Catalog have enthralled fans across the United States. It goes without saying they have taken their act to the high seas\, performing showcase sets on music cruises with Weezer\, Kid Rock\, Train\, Zac Brown Band\, Sister Hazel\, and fitness guru Jillian Michaels. \nBy blurring the lines between a tribute\, an original act\, and a comedic troupe\, the Yacht Rock Revue™ has forged a unique niche market and a special bond with their fans. The band attacks each song as if it were their own\, and the energy exchanged between the band and the crowd has more in common with a stadium U2 show than that of a typical bar band. \nThe band has won accolades ranging from “Best Place to Get Drunk With Your Dad” to “Best Overall Music Act in Atlanta” to “Best Place to Start an Extramarital Affair\,” and has been name-dropped by the New York Times\, Pitchfork\, the Guardian UK\, Spin\, TimeOut New York\, Billboard\, MTV.com\, and (probably) your mom at her last cocktail party. \nSpeaking of name-dropping\, members of the band have played on-stage with members of Weezer\, Billy Joel\, Walter Egan\, .38 Special\, John Mayer\, Zac Brown Band\, Little River Band\, Sheryl Crow\, Noel Gallagher\, Starbuck\, Sarah McLachlan\, Don Henley\, Lynyrd Skynyrd\, Neil Finn\, Jellyfish\, Devo\, Nine Inch Nails\, Joan Jett\, Wet Willie\, Bon Jovi\, Skid Row\, and the Saturday Night Live Band. (None of those were a joke.) \nThe Yacht Rock Revue™ has packed out shows at historic venues including the Variety Playhouse in Atlanta\, the Knitting Factory in New York City\, Athens’ famed Georgia Theatre\, Washington DC’s State Theatre\, and Nashville’s Mercy Lounge. They played at the finish line of the Peachtree Road Race for 50\,000+ two years running; played on Turner Field for 30\,000 fans on July 4; and sang the National Anthem at Braves Manager Bobby Cox’s last game. \nThe Yacht Rock Revue™ goes beyond the smooth to perform under many aliases: Please PleaseRock Me (Beatles)\, Reagan Rock (Smooth ’80s) Uno Dos Tres Catorce (U2)\, Dazed and Confused (’70s Stoner Rock)\, Rock Fight (Led Zeppelin vs. the Who\, Tom Petty vs. Fleetwood Mac\, etc.) and so forth. \nYacht Rock Revue™ also performs many classic albums in their entirety\, including Michael Jackson’s Thriller\, Pink Floyd’s Dark Side of the Moon\, Prince’s Purple Rain\, the Beatles’ Sgt. Pepper’s Lonely Hearts Club Band\, XTC’s Black Sea\, and Led Zeppelin IV. \nTICKETING & RESERVATION INFO: \nDoors open at 7:00 PM \nPurchasing a General Admission ticket does not guarantee a seat/table. \nAdditional reservations are not required if a booth\, table\, or banquette has been purchased via Big Tickets \n 
URL:https://venkmans.com/event/yacht-rock-revue-turkey-eve-2/
CATEGORIES:Ticketed Shows
END:VEVENT
END:VCALENDAR