BEGIN:VCALENDAR
VERSION:2.0
PRODID:-//Venkman&#039;s | 740 Ralph McGill Blvd. - ECPv5.16.1.1//NONSGML v1.0//EN
CALSCALE:GREGORIAN
METHOD:PUBLISH
X-ORIGINAL-URL:https://venkmans.com
X-WR-CALDESC:Events for Venkman&#039;s | 740 Ralph McGill Blvd.
REFRESH-INTERVAL;VALUE=DURATION:PT1H
X-Robots-Tag:noindex
X-PUBLISHED-TTL:PT1H
BEGIN:VTIMEZONE
TZID:America/New_York
BEGIN:DAYLIGHT
TZOFFSETFROM:-0500
TZOFFSETTO:-0400
TZNAME:EDT
DTSTART:20190310T070000
END:DAYLIGHT
BEGIN:STANDARD
TZOFFSETFROM:-0400
TZOFFSETTO:-0500
TZNAME:EST
DTSTART:20191103T060000
END:STANDARD
END:VTIMEZONE
BEGIN:VEVENT
DTSTART;TZID=America/New_York:20191116T123000
DTEND;TZID=America/New_York:20191116T123000
DTSTAMP:20260424T135300
CREATED:20191009T174538Z
LAST-MODIFIED:20191009T174538Z
UID:45494-1573907400-1573907400@venkmans.com
SUMMARY:Bottomless Mimosa Brunch: Dusty Roads
DESCRIPTION:Dusty Roads is a high-energy Americana band\, formed by Atlanta based musician\, John Mickelson and featuring Jared Lanham on mandolin and tabla – the traditional Indian hand-drum\, Colt Bowen on drums\, and fiddlin’ phenom Danny Bermel. Comprised of some of the Southeasts finest pickers and singers\, the band is ever evolving and growing.  \nWhen you’re at a Dusty Roads show\, expect to hear influences of the legends of country and bluegrass music along with sprinklings of songs and sounds of the great writers and musicians from across the globe and halls of time\, like Django Reinhardt\, Duke Ellington\, and Irving Berlin.  \nTICKETING/RESERVATION INFO:  \nTickets are not available for FREE shows. For seating at a FREE show\, please make reservations for the appropriate time at www.venkmans.com (see “Reservations”)\, or by calling 470-225-6162.
URL:https://venkmans.com/event/bottomless-mimosa-brunch-dusty-roads-2/
CATEGORIES:Ticketed Shows
END:VEVENT
BEGIN:VEVENT
DTSTART;TZID=America/New_York:20191116T183000
DTEND;TZID=America/New_York:20191116T183000
DTSTAMP:20260424T135300
CREATED:20191017T184950Z
LAST-MODIFIED:20191017T184950Z
UID:45509-1573929000-1573929000@venkmans.com
SUMMARY:Free Acoustic Bill WIthers Tribute
DESCRIPTION:Join us for a free acoustic tribute to Bill Withers with Ganesh and Cody. Dinner reservations can be made at Venkmans.com (RESERVE) 
URL:https://venkmans.com/event/free-acoustic-bill-withers-tribute/
CATEGORIES:Ticketed Shows
END:VEVENT
BEGIN:VEVENT
DTSTART;TZID=America/New_York:20191116T213000
DTEND;TZID=America/New_York:20191116T213000
DTSTAMP:20260424T135300
CREATED:20190918T161726Z
LAST-MODIFIED:20190918T161726Z
UID:45426-1573939800-1573939800@venkmans.com
SUMMARY:Gurufish + Three5Human
DESCRIPTION:Gurufish \nSexy\, funky-as-hell\, pop music” is what critics are saying aboutGurufish (Ear Magazine). Electrifying audiences everywherewith their own provocative blend of pop\, funk and soul\, Atlanta’s Gurufish is best known for their high-octane live show fueled by irresistible melodies wrapped around hypnotic\, funky grooves. After a great start to the year with a sold out showcase at SXSW\, Gurufish was listed by PASTE Magazine as one of the 25 Georgia Bands You Should Listen to Now. They were also honored with the distinction of being recognized by the GA Music Awards as Georgia’s Best R’nB/Funk Band and recently appeared as featuredperformers on the CW network’s “The Originals”. \nFounded by singer/songwriter/producer Jimmy St. James\, Gurufish performs live as an 8 piece ensemble with Matty Haze on guitar\, Steve Dixon on drums\, Trey Williams on bass\, and a full horn section. They are currently playing dates in support of their critically acclaimed release\,”Mohair Supreme”\, while recording and preparing for a new release in the fall of 2016. Gurufish has shared the bill with such prestigious acts as: Meaghan Trainor\, The Brand New Heavies\, Mother’s Finest\, Nikka Costa\, Derek Trucks\, The Flaming Lips\, Galactic\, Cypress Hill\, Ghostland Observatory\, P.M. Dawn\,The Spin Doctors\, Colbie Caillat\, The White Stripes\, LMFAO\, KC & the Sunshine Band\, The Isley Brothers\, Foreigner\, and the P-Funk Allstars. \nThree5Human \nFew bands represent the Atlanta rock scene from the 90s and 2000s like the seminal group THREE5HUMAN. When a mutual friend introduced vocalist Trina Meade to Tomi Martin\, one of the most sought-after guitar players in popular music by every superstar from Eric Clapton\, Outkast\, and TLC to Madonna\, Toni Braxton\, and Michael Jackson\, an immediate chemistry was formed. However\, Tomi was not yet convinced that Trina would be the lead vocalist in the band he wanted to form. That is until Trina decided to prove to him that she could not only sing like no other\, but she was also blessed with the ability to write great songs. Soon after\, the band was formed\, with Sean Michael Ray (bass)\, and Melvin Baldwin (drums) rounding out the group that would change the musical landscape of Atlanta.  \nWith a sound that was rich\, raw\, and filled with great passion\, they soon caught the attention of stars such as Amy Ray and Emily Sailers of the Indigo Girl\, who immediately asked THREE5HUMAN to join them on tour as their opening act. Amy and Emily believed in them so much\, they lent their vocals to THREE5HUMAN’s album\, A Swig from the Acid Bottle. THREE5HUMAN’s other critically-acclaimed albums are Flying Below the Radar and Sunlight & Toys.  \nThe band has performed together on and off over the years for special engagements while they all pursued other engagements and passion projects. However\, they always yearned to play together and create new music. \n \nTICKETING & RESERVATION INFO: \nPurchasing a General Admission ticket does not guarantee a seat/table. \nAdditional reservations are not required if a table\, booth or banquette have been purchased via Ticketfly. \nPLEASE NOTE: If earlier dinner reservations are made\, your seats are not guaranteed for the show. For example\, it is unlikely to be able to reserve a table at 8:00pm and keep it for a 10:00pm show. The only way to guarantee a seat for the show is to purchase table\, booth\, or banquette tickets. \nReservations for the Captain’s Room (private dining room) can be reserved for parties of 10-24 guests. For more info contact info@venkmans.com
URL:https://venkmans.com/event/gurufish-three5human/
CATEGORIES:Ticketed Shows
END:VEVENT
END:VCALENDAR