BEGIN:VCALENDAR
VERSION:2.0
PRODID:-//Venkman&#039;s | 740 Ralph McGill Blvd. - ECPv5.16.1.1//NONSGML v1.0//EN
CALSCALE:GREGORIAN
METHOD:PUBLISH
X-ORIGINAL-URL:https://venkmans.com
X-WR-CALDESC:Events for Venkman&#039;s | 740 Ralph McGill Blvd.
REFRESH-INTERVAL;VALUE=DURATION:PT1H
X-Robots-Tag:noindex
X-PUBLISHED-TTL:PT1H
BEGIN:VTIMEZONE
TZID:America/New_York
BEGIN:DAYLIGHT
TZOFFSETFROM:-0500
TZOFFSETTO:-0400
TZNAME:EDT
DTSTART:20190310T070000
END:DAYLIGHT
BEGIN:STANDARD
TZOFFSETFROM:-0400
TZOFFSETTO:-0500
TZNAME:EST
DTSTART:20191103T060000
END:STANDARD
END:VTIMEZONE
BEGIN:VEVENT
DTSTART;TZID=America/New_York:20191112T173000
DTEND;TZID=America/New_York:20191112T233000
DTSTAMP:20260424T135258
CREATED:20190426T051342Z
LAST-MODIFIED:20191106T202430Z
UID:44992-1573579800-1573601400@venkmans.com
SUMMARY:Closed for Private Event - NO JAZZ JAM TONIGHT!
DESCRIPTION:We will be closed for a private event this evening. Jazz Jam will resume next Tuesday at 8 PM. \nTo book your own private event contact Jarvis@Venkmans.com.\nCheers!
URL:https://venkmans.com/event/closed-for-private-event-3/
CATEGORIES:Free Shows
END:VEVENT
END:VCALENDAR