BEGIN:VCALENDAR
VERSION:2.0
PRODID:-//Venkman&#039;s | 740 Ralph McGill Blvd. - ECPv5.16.1.1//NONSGML v1.0//EN
CALSCALE:GREGORIAN
METHOD:PUBLISH
X-WR-CALNAME:Venkman&#039;s | 740 Ralph McGill Blvd.
X-ORIGINAL-URL:https://venkmans.com
X-WR-CALDESC:Events for Venkman&#039;s | 740 Ralph McGill Blvd.
REFRESH-INTERVAL;VALUE=DURATION:PT1H
X-Robots-Tag:noindex
X-PUBLISHED-TTL:PT1H
BEGIN:VTIMEZONE
TZID:America/New_York
BEGIN:DAYLIGHT
TZOFFSETFROM:-0500
TZOFFSETTO:-0400
TZNAME:EDT
DTSTART:20190310T070000
END:DAYLIGHT
BEGIN:STANDARD
TZOFFSETFROM:-0400
TZOFFSETTO:-0500
TZNAME:EST
DTSTART:20191103T060000
END:STANDARD
END:VTIMEZONE
BEGIN:VEVENT
DTSTART;TZID=America/New_York:20191101T183000
DTEND;TZID=America/New_York:20191101T183000
DTSTAMP:20260424T121739
CREATED:20191002T171319Z
LAST-MODIFIED:20191002T171319Z
UID:45446-1572633000-1572633000@venkmans.com
SUMMARY:The Keys of A & B: A tribute to Alicia Keys\, Beyonce\, Brandy\, and more!
DESCRIPTION:Join us for an evening of 2000s R&B pop as we celebrate the music of Alicia Keys\, Brandy\, Beyonce\, and more\, played by Joy Warren.  \nThis is a FREE event. FREE events do not require tickets\, but dinner reservations are highly encouraged. Venkmans.com(RESERVE) or call 470.225.6162.
URL:https://venkmans.com/event/the-keys-of-a-b-a-tribute-to-alicia-keys-beyonce-brandy-and-more-3/
CATEGORIES:Ticketed Shows
END:VEVENT
BEGIN:VEVENT
DTSTART;TZID=America/New_York:20191101T213000
DTEND;TZID=America/New_York:20191101T213000
DTSTAMP:20260424T121739
CREATED:20190917T160927Z
LAST-MODIFIED:20190917T160927Z
UID:45420-1572643800-1572643800@venkmans.com
SUMMARY:Lobsters of Rock (B-52s Tribute) + Cherry Bomb w/ Lesibu Grand
DESCRIPTION:The Lobsters of Rock are a tribute to the legendary B-52’s! The group is based in Atlanta\, GA\, and consists of all seasoned musicians with years of performance experience. The Lobsters of Rock perform all of the best B-52’s classics with a strong emphasis on re-creating the high musical and visual quality of the original B-52’s. The band performs a high-octane set of B-52’s material that leaves B-52’s fans screaming for more! Months of rehearsals were spent on getting the music just right and the visuals as well. “Kate\, Cindy\, Fred” and the gang are all represented here! What makes the band different from other B-52’s tribute bands is that “Fred” is front and center singing and playing drums! You have to see it to believe it! BEWARE! The Lobsters are coming! \nThe Cherry Bomb is a fun-loving\, hodge-podge group of musicians hailing from the school of St. Joan of the Blackhearts. The band plays all of Joan Jett’s hits starting with “Crimson & Clover” all the way through to “I Love Rock n’ Roll.” They are also known to throw in some Runaways tunes and some other classic songs from women that rock. Be prepared to rock your face off! \nAn indie rock band with a dash of soul\, Lesibu Grand shares its original songs about dreams\, hope\, and sisterhood with anyone curious enough to listen. For this show\, Lesibu Grand will celebrate the music of Blondie\, Santigold and other Queens of the dancefloor! \nTICKETING & RESERVATION INFO:  \nGeneral Admission is standing room only.  \nAdditional reservations are not required if a table\, booth or banquette have been purchased via Big Tickets.  \nPLEASE NOTE: If earlier dinner reservations are made\, your seats are not guaranteed for the show. For example\, it is unlikely to be able to reserve a table at 8:00pm and keep it for a 10:00pm show. The only way to guarantee a seat for the show is to purchase table\, booth\, or banquette tickets.  \nReservations for the Captain’s Room (private dining room) please contact info@venkmans.com
URL:https://venkmans.com/event/lobsters-of-rock-b-52s-tribute-cherry-bomb-w-lesibu-grand/
CATEGORIES:Ticketed Shows
END:VEVENT
BEGIN:VEVENT
DTSTART;TZID=America/New_York:20191102T103000
DTEND;TZID=America/New_York:20191102T103000
DTSTAMP:20260424T121739
CREATED:20190919T160507Z
LAST-MODIFIED:20190919T160507Z
UID:45430-1572690600-1572690600@venkmans.com
SUMMARY:Princess Brunch: Coco at Venkman's
DESCRIPTION:Despite his family’s generations-old ban on music\, young Miguel dreams of becoming an accomplished musician like his idol Ernesto de la Cruz. Desperate to prove his talent\, Miguel finds himself in the stunning and colorful Land of the Dead. FREE with RSVP at Venkmans.com (RESERVE) Bottomless mimosas available for purchase the adult kids! 
URL:https://venkmans.com/event/princess-brunch-coco-at-venkmans-3/
CATEGORIES:Ticketed Shows
END:VEVENT
END:VCALENDAR