BEGIN:VCALENDAR
VERSION:2.0
PRODID:-//Venkman&#039;s | 740 Ralph McGill Blvd. - ECPv5.16.1.1//NONSGML v1.0//EN
CALSCALE:GREGORIAN
METHOD:PUBLISH
X-WR-CALNAME:Venkman&#039;s | 740 Ralph McGill Blvd.
X-ORIGINAL-URL:https://venkmans.com
X-WR-CALDESC:Events for Venkman&#039;s | 740 Ralph McGill Blvd.
REFRESH-INTERVAL;VALUE=DURATION:PT1H
X-Robots-Tag:noindex
X-PUBLISHED-TTL:PT1H
BEGIN:VTIMEZONE
TZID:America/New_York
BEGIN:DAYLIGHT
TZOFFSETFROM:-0500
TZOFFSETTO:-0400
TZNAME:EDT
DTSTART:20190310T070000
END:DAYLIGHT
BEGIN:STANDARD
TZOFFSETFROM:-0400
TZOFFSETTO:-0500
TZNAME:EST
DTSTART:20191103T060000
END:STANDARD
END:VTIMEZONE
BEGIN:VEVENT
DTSTART;TZID=America/New_York:20191025T183000
DTEND;TZID=America/New_York:20191025T183000
DTSTAMP:20260424T170501
CREATED:20190828T170609Z
LAST-MODIFIED:20190828T170609Z
UID:45381-1572028200-1572028200@venkmans.com
SUMMARY:Free Dinner Show: Musical Tribute to Jerry Garcia and David Grisman by the Foothill Brothers
DESCRIPTION:Join The Foothill Brothers for two sets from the musical catalogue from Jerry Garcia and David Grisman. Come have your Teddy Bear’s Picnic dinner with us! \nThe Foothill Brothers are an eclectic\, genre-bending\, acoustic act from Atlanta\, Ga. They use mandolin and guitar to mold different genres into a sonic delight. Rooted in Americana\, Bluegrass\, Jazz and R&B\, Newgrass\, and Rock\, The Foothill Brothers are sure to leave you with a smile on your face\, and a boogie in your step. \nTICKETING & RESERVATION INFO: \nTickets are not needed for FREE shows. Dinner reservations are encouraged and can be made at Venkmans.com (RESERVE) or by emailing info@venkmans.com
URL:https://venkmans.com/event/free-dinner-show-musical-tribute-to-jerry-garcia-and-david-grisman-by-the-foothill-brothers-4/
CATEGORIES:Ticketed Shows
END:VEVENT
BEGIN:VEVENT
DTSTART;TZID=America/New_York:20191025T213000
DTEND;TZID=America/New_York:20191025T213000
DTSTAMP:20260424T170501
CREATED:20190918T153056Z
LAST-MODIFIED:20190918T153056Z
UID:45424-1572039000-1572039000@venkmans.com
SUMMARY:Latrese Bush Live at Venkman's!
DESCRIPTION:Come experience a night of great music with soul\, R&B\, jazz\, and gospel vocal stylist\, Latrese Bush as she takes you on a musical adventure you won’t soon forget!  Latrese is a Billboard charting artist who has graced the stage with world renown icons Gloria Gaynor\, Roy Ayers\, and Justin Bieber. She is featured on the soulful ballad “Up and Down” by the legendary funk group\, The Barkays.  Her own releases have been very successful internationally.  “Because of You\,” featuring Noel Gourdin\, reached #18 on the Smooth Jazz Billboard chart and topped the UK Soul chart\, along with her hit “Love I Can Sing About”\, written by Grammy nominated Alvin Garrett and R&B star Ruben Studdard.  Latrese also co-wrote and performed “Merry Go Round” on jazz great Marion Meadow’s latest album “Soul City”.  Because of her infectious personality\, high energy\, and spirit-filled vocal ability\, her live shows are huge hits with diverse audiences.  Get your tickets now and be prepared to be wowed and genuinely moved by this amazing artist! \nTICKETING & RESERVATION INFO: \nPurchasing a General Admission ticket does not guarantee a seat/table. \nAdditional reservations are not required if booth\, table\, or banquette tickets have been purchased via Big Tickets. \nPLEASE NOTE: If earlier dinner reservations are made\, your seats are not guaranteed for the show. For example\, you CANNOT reserve a table at 7:00 pm and keep it for a 9:00 pm show. The only way to guarantee a seat for the show is to purchase a table\, booth\, or banquette ticket. \nReservations for the Captain’s Room (private dining room) can be reserved for parties of 12-24 guests. For more info please contact info@venkmans.com 
URL:https://venkmans.com/event/latrese-bush-live-at-venkmans/
CATEGORIES:Ticketed Shows
END:VEVENT
BEGIN:VEVENT
DTSTART;TZID=America/New_York:20191026T103000
DTEND;TZID=America/New_York:20191026T103000
DTSTAMP:20260424T170501
CREATED:20190919T161829Z
LAST-MODIFIED:20190919T161829Z
UID:45436-1572085800-1572085800@venkmans.com
SUMMARY:Princess Brunch: Beauty and the Beast
DESCRIPTION:Be Our Guest! Join us for Princess Brunch: Beauty and the Beast. FREE with RSVP at Venkmans.com (RESERVE) or by emailing info@venkmans.com. Bottomless mimosas available for purchase (for the adult kids!) 
URL:https://venkmans.com/event/princess-brunch-beauty-and-the-beast-11/
CATEGORIES:Ticketed Shows
END:VEVENT
END:VCALENDAR