BEGIN:VCALENDAR
VERSION:2.0
PRODID:-//Venkman&#039;s | 740 Ralph McGill Blvd. - ECPv5.16.1.1//NONSGML v1.0//EN
CALSCALE:GREGORIAN
METHOD:PUBLISH
X-ORIGINAL-URL:https://venkmans.com
X-WR-CALDESC:Events for Venkman&#039;s | 740 Ralph McGill Blvd.
REFRESH-INTERVAL;VALUE=DURATION:PT1H
X-Robots-Tag:noindex
X-PUBLISHED-TTL:PT1H
BEGIN:VTIMEZONE
TZID:America/New_York
BEGIN:DAYLIGHT
TZOFFSETFROM:-0500
TZOFFSETTO:-0400
TZNAME:EDT
DTSTART:20190310T070000
END:DAYLIGHT
BEGIN:STANDARD
TZOFFSETFROM:-0400
TZOFFSETTO:-0500
TZNAME:EST
DTSTART:20191103T060000
END:STANDARD
END:VTIMEZONE
BEGIN:VEVENT
DTSTART;TZID=America/New_York:20191024T180000
DTEND;TZID=America/New_York:20191024T180000
DTSTAMP:20260424T170301
CREATED:20191003T193904Z
LAST-MODIFIED:20191008T223655Z
UID:45478-1571940000-1571940000@venkmans.com
SUMMARY:FREE FAMILY SHOW: Alyssa Olson & Peter Olson (of Yacht Rock Revue)
DESCRIPTION:Bring the whole family out for an acoustic set that’s cool with the parents\, and cool with the kids. From Whitney to Moana\, and The Beatles to Trolls\, come sing along! \nTICKETING & RESERVATION INFO: \nTickets are not available for FREE shows. For seating at a FREE show\, please make reservations for the appropriate time at www.venkmans.com (see “Reservations”)\, or by calling 470-225-6162.
URL:https://venkmans.com/event/free-family-show-alyssa-olson-peter-olson-of-yacht-rock-revue-7/
CATEGORIES:Ticketed Shows
ATTACH;FMTTYPE=image/jpeg:https://venkmans.com/wp-content/uploads/253BD6A3-A3AD-48A9-A1DA-AB6A52EADC7E.jpeg
END:VEVENT
BEGIN:VEVENT
DTSTART;TZID=America/New_York:20191024T200000
DTEND;TZID=America/New_York:20191024T200000
DTSTAMP:20260424T170301
CREATED:20190917T174713Z
LAST-MODIFIED:20191008T223741Z
UID:45422-1571947200-1571947200@venkmans.com
SUMMARY:FREE: Girls Just Wanna Dance with Somebody (Ladies of the 80s/80s)
DESCRIPTION:Join Pete (Yacht Rock Revue) and Alyssa Olson for a super fun adult-friendly sing-along! \nTICKETING & RESERVATION INFO: \nTickets are not available for FREE shows. For seating at a FREE show\, please make reservations for the appropriate time at www.venkmans.com (RESERVE)
URL:https://venkmans.com/event/free-girls-just-wanna-dance-with-somebody-ladies-of-the-80s-80s-2/
CATEGORIES:Ticketed Shows
ATTACH;FMTTYPE=image/jpeg:https://venkmans.com/wp-content/uploads/D13E8E43-924B-47CE-8173-8235FCC2662D.jpeg
END:VEVENT
END:VCALENDAR