BEGIN:VCALENDAR
VERSION:2.0
PRODID:-//Venkman&#039;s | 740 Ralph McGill Blvd. - ECPv5.16.1.1//NONSGML v1.0//EN
CALSCALE:GREGORIAN
METHOD:PUBLISH
X-ORIGINAL-URL:https://venkmans.com
X-WR-CALDESC:Events for Venkman&#039;s | 740 Ralph McGill Blvd.
REFRESH-INTERVAL;VALUE=DURATION:PT1H
X-Robots-Tag:noindex
X-PUBLISHED-TTL:PT1H
BEGIN:VTIMEZONE
TZID:America/New_York
BEGIN:DAYLIGHT
TZOFFSETFROM:-0500
TZOFFSETTO:-0400
TZNAME:EDT
DTSTART:20190310T070000
END:DAYLIGHT
BEGIN:STANDARD
TZOFFSETFROM:-0400
TZOFFSETTO:-0500
TZNAME:EST
DTSTART:20191103T060000
END:STANDARD
END:VTIMEZONE
BEGIN:VEVENT
DTSTART;TZID=America/New_York:20191023T173000
DTEND;TZID=America/New_York:20191023T173000
DTSTAMP:20260424T170306
CREATED:20190731T153832Z
LAST-MODIFIED:20190731T153832Z
UID:45338-1571851800-1571851800@venkmans.com
SUMMARY:Taco Wednesday!
DESCRIPTION:“They’re backkkk! That’s right we’re bringing back our weekly taco special. EVERY WEDNESDAY from 5:30-8pm\, come by and get a plate of 3 tacos for just $9!! Each week we’ll have something new and exciting for your tastebuds. See youy at the V! 
URL:https://venkmans.com/event/taco-wednesday-38/
CATEGORIES:Ticketed Shows
END:VEVENT
BEGIN:VEVENT
DTSTART;TZID=America/New_York:20191023T173000
DTEND;TZID=America/New_York:20191023T173000
DTSTAMP:20260424T170306
CREATED:20190912T162352Z
LAST-MODIFIED:20190912T162352Z
UID:45415-1571851800-1571851800@venkmans.com
SUMMARY:Dine-Out for IPS at Venkman's
DESCRIPTION:Nick from Yacht Rock Revue (and IPS dad) will perform a short set of children’s songs by the Beatles\, Raffi and more! 10% of food sales will be donated to IPS so bring the family for some fun! Reservations available at Venkmans.com \nThis is FREE event! Tickets are not required for FREE events\, but dinner reservations are highly encouraged. See Venkmans.com (RESERVE)
URL:https://venkmans.com/event/dine-out-for-ips-at-venkmans-2/
CATEGORIES:Ticketed Shows
END:VEVENT
BEGIN:VEVENT
DTSTART;TZID=America/New_York:20191023T200000
DTEND;TZID=America/New_York:20191023T200000
DTSTAMP:20260424T170306
CREATED:20190731T153827Z
LAST-MODIFIED:20190731T153827Z
UID:45333-1571860800-1571860800@venkmans.com
SUMMARY:PleaseRock presents (Not Annoying) Trivia
DESCRIPTION:THIS IS A FREE EVENT. Tickets are not available for FREE shows. For seating at a FREE show\, please make reservations for the appropriate time at www.venkmans.com (see “Reservations”)\, or by calling 470-225-6162. \n(Not Annoying) Trivia brings you everything you love about trivia – mind-bending questions\, group camaraderie\, great music\, food and drink specials\, prizes – without the one thing you don’t – annoying DJ chatter! Hosted by DJ Quasi Mandisco of Clermont Lounge fame with his trusty overhead projector\, this uniquely Venkman’s take on trivia will get your competitive spirit racing without getting your blood boiling by hearing “Get those answers in” for the 500th time. \nSign-ups and music kick off at 7:30pm\, with competition rocking at 8:00pm every Wednesday.
URL:https://venkmans.com/event/pleaserock-presents-not-annoying-trivia-44/
CATEGORIES:Ticketed Shows
END:VEVENT
END:VCALENDAR