BEGIN:VCALENDAR
VERSION:2.0
PRODID:-//Venkman&#039;s | 740 Ralph McGill Blvd. - ECPv5.16.1.1//NONSGML v1.0//EN
CALSCALE:GREGORIAN
METHOD:PUBLISH
X-WR-CALNAME:Venkman&#039;s | 740 Ralph McGill Blvd.
X-ORIGINAL-URL:https://venkmans.com
X-WR-CALDESC:Events for Venkman&#039;s | 740 Ralph McGill Blvd.
REFRESH-INTERVAL;VALUE=DURATION:PT1H
X-Robots-Tag:noindex
X-PUBLISHED-TTL:PT1H
BEGIN:VTIMEZONE
TZID:America/New_York
BEGIN:DAYLIGHT
TZOFFSETFROM:-0500
TZOFFSETTO:-0400
TZNAME:EDT
DTSTART:20190310T070000
END:DAYLIGHT
BEGIN:STANDARD
TZOFFSETFROM:-0400
TZOFFSETTO:-0500
TZNAME:EST
DTSTART:20191103T060000
END:STANDARD
END:VTIMEZONE
BEGIN:VEVENT
DTSTART;TZID=America/New_York:20191019T123000
DTEND;TZID=America/New_York:20191019T123000
DTSTAMP:20260424T170257
CREATED:20190828T180238Z
LAST-MODIFIED:20190828T180238Z
UID:45387-1571488200-1571488200@venkmans.com
SUMMARY:Bottomless Mimosa Brunch with Rodeo Twister
DESCRIPTION:Rodeo Twister play original rockabilly and honky-tonk music the way God intended it: without the use of them demon drums! But don’t worry your toes won’t tap or your hips won’t shake. The slap of the upright bass and the chugga-chugga of the rhythm guitar keep the beat just as good as the crack of snare – maybe even better. The three Twisters are veterans of Atlanta’s “Redneck Underground” roots music scene and have been members of so many “Best of Atlanta” lists they’ve lost count. Now all together for the first time\, they’re bringing a huge crop of brand-new songs and choice covers plus a secret weapon – some of the sweetest two and three-part harmonies you’ve ever heard. And you can hear ‘em\, too… without all that bangedy-bang of them demon drums! \nTICKETING & RESERVATION INFO: \nTickets are not available for FREE shows. For seating at a FREE show\, please make reservations for the appropriate time at www.venkmans.com (see “Reservations”)\, or by calling 470-225-6162.
URL:https://venkmans.com/event/bottomless-mimosa-brunch-with-rodeo-twister-4/
CATEGORIES:Ticketed Shows
END:VEVENT
BEGIN:VEVENT
DTSTART;TZID=America/New_York:20191019T183000
DTEND;TZID=America/New_York:20191019T183000
DTSTAMP:20260424T170257
CREATED:20190828T170610Z
LAST-MODIFIED:20190828T170610Z
UID:45382-1571509800-1571509800@venkmans.com
SUMMARY:Free Show: Classic Rock Acoustic w/ The Heritage
DESCRIPTION:The Heritage are bringing you all your favorite classic rock jams acoustic style with a dinner show that is sure to conjure up that sweet sensation of nostalgia.  \nTickets are not available for free shows. Dinner reservations are encouraged and can be made via the RESERVE button at Venkmans.com or by emailing info@venkmans.com. Walk-ins always welcome. 
URL:https://venkmans.com/event/free-show-classic-rock-acoustic-w-the-heritage-2/
CATEGORIES:Ticketed Shows
END:VEVENT
BEGIN:VEVENT
DTSTART;TZID=America/New_York:20191019T213000
DTEND;TZID=America/New_York:20191019T213000
DTSTAMP:20260424T170257
CREATED:20190903T172415Z
LAST-MODIFIED:20190903T172415Z
UID:45395-1571520600-1571520600@venkmans.com
SUMMARY:No Diggity!  (ATL's All-Star 90s Tribute Band) at Venkman's
DESCRIPTION:ATL’s Premire 90’s RnB and Hip Hop and Pop Tribute.  \nPLEASE NOTE: If earlier dinner reservations are made\, your seats are not guaranteed for the show. For example\, you CANNOT reserve a table at 7:00 pm and keep it for a 9:00 pm show. The only way to guarantee a seat for the show is to purchase a table\, booth\, or banquette ticket. \nReservations for the Captain’s Room (private dining room) can be reserved for parties of 10-24 guests. For more info please contact info@venkmans.com. 
URL:https://venkmans.com/event/no-diggity-atls-all-star-90s-tribute-band-at-venkmans/
CATEGORIES:Ticketed Shows
END:VEVENT
END:VCALENDAR