BEGIN:VCALENDAR
VERSION:2.0
PRODID:-//Venkman&#039;s | 740 Ralph McGill Blvd. - ECPv5.16.1.1//NONSGML v1.0//EN
CALSCALE:GREGORIAN
METHOD:PUBLISH
X-WR-CALNAME:Venkman&#039;s | 740 Ralph McGill Blvd.
X-ORIGINAL-URL:https://venkmans.com
X-WR-CALDESC:Events for Venkman&#039;s | 740 Ralph McGill Blvd.
REFRESH-INTERVAL;VALUE=DURATION:PT1H
X-Robots-Tag:noindex
X-PUBLISHED-TTL:PT1H
BEGIN:VTIMEZONE
TZID:America/New_York
BEGIN:DAYLIGHT
TZOFFSETFROM:-0500
TZOFFSETTO:-0400
TZNAME:EDT
DTSTART:20190310T070000
END:DAYLIGHT
BEGIN:STANDARD
TZOFFSETFROM:-0400
TZOFFSETTO:-0500
TZNAME:EST
DTSTART:20191103T060000
END:STANDARD
END:VTIMEZONE
BEGIN:VEVENT
DTSTART;TZID=America/New_York:20191018T183000
DTEND;TZID=America/New_York:20191018T183000
DTSTAMP:20260424T195841
CREATED:20191008T213155Z
LAST-MODIFIED:20191008T213155Z
UID:45484-1571423400-1571423400@venkmans.com
SUMMARY:FREE EARLY SHOW: Tom Petty Acoustic Tribute with The Coonhounds
DESCRIPTION:Join us at the V for an acoustic tribute to Tom Petty\, one of America’s most beloved musical icons\, performed by The Coonhounds.  \nTICKETING & RESERVATION INFO:  \nTickets are not available for FREE shows. For seating at a FREE show\, please make reservations for the appropriate time at www.venkmans.com (see “Reservations”)\, or by calling 470-225-6162. Note that dinner reservations this evening will be wrapped up by 8:30 PM for our late show.
URL:https://venkmans.com/event/free-early-show-tom-petty-acoustic-tribute-with-the-coonhounds-2/
CATEGORIES:Ticketed Shows
END:VEVENT
BEGIN:VEVENT
DTSTART;TZID=America/New_York:20191018T213000
DTEND;TZID=America/New_York:20191018T213000
DTSTAMP:20260424T195841
CREATED:20190910T152518Z
LAST-MODIFIED:20190910T152518Z
UID:45411-1571434200-1571434200@venkmans.com
SUMMARY:Saved By The Band Plays GREEN DAY'S 'DOOKIE' + More '90s Alternative Favorites
DESCRIPTION:Time travel back to the mid-90s as Saved By The Band performs Green Day’s seminal pop-punk classic ‘Dookie’! Come hear everything from ‘Basket Case’ to ‘When I Come Around’ and all 14 tracks. In addition\, Saved By The Band will be playing a ton of alternative rock favorites! More pop-punk\, a bit of grunge\, Brit-Pop – anything to give you that ’90s feeling again! So mark your calendar app\, hire a babysitter\, and get rowdy with us. \nTICKETING & RESERVATION INFO: \nPurchasing a General Admission ticket does not guarantee a seat/table. \nAdditional reservations are not required if a table\, booth or banquette have been purchased via Big Tickets. \nPLEASE NOTE: If earlier dinner reservations are made\, your seats are not guaranteed for the show. For example\, reserving a table at 8:00pm and keeping it for a 10:00pm show is unlikely. The only way to guarantee a seat for the show is to purchase table\, booth\, or banquette tickets. \nReservations for the Captain’s Room (private dining room) can be reserved for parties of 12-24 guests. For more information please contact info@venkmans.com
URL:https://venkmans.com/event/saved-by-the-band-plays-green-days-dookie-more-90s-alternative-favorites/
CATEGORIES:Ticketed Shows
END:VEVENT
BEGIN:VEVENT
DTSTART;TZID=America/New_York:20191019T103000
DTEND;TZID=America/New_York:20191019T103000
DTSTAMP:20260424T195841
CREATED:20190919T161827Z
LAST-MODIFIED:20190919T161827Z
UID:45434-1571481000-1571481000@venkmans.com
SUMMARY:Princess Brunch: Shrek!
DESCRIPTION:Join us for a brunch event fit for an ogre! Once upon a time\, in a far away swamp\, there lived an ogre named Shrek (Mike Myers) whose precious solitude is suddenly shattered by an invasion of annoying fairy tale characters. They were all banished from their kingdom by the evil Lord Farquaad (John Lithgow). Determined to save their home — not to mention his — Shrek cuts a deal with Farquaad and sets out to rescue Princess Fiona (Cameron Diaz) to be Farquaad’s bride. Rescuing the Princess may be small compared to her deep\, dark secret. Free with RSVP. Advance reservations are encouraged for this event. Bottomless mimosas available for purchase for the adult kids! \nTickets are not available for FREE shows. For seating at a FREE show\, please make reservations for the appropriate time at www.venkmans.com (RESERVE)
URL:https://venkmans.com/event/princess-brunch-shrek-4/
CATEGORIES:Ticketed Shows
END:VEVENT
END:VCALENDAR