BEGIN:VCALENDAR
VERSION:2.0
PRODID:-//Venkman&#039;s | 740 Ralph McGill Blvd. - ECPv5.16.1.1//NONSGML v1.0//EN
CALSCALE:GREGORIAN
METHOD:PUBLISH
X-ORIGINAL-URL:https://venkmans.com
X-WR-CALDESC:Events for Venkman&#039;s | 740 Ralph McGill Blvd.
REFRESH-INTERVAL;VALUE=DURATION:PT1H
X-Robots-Tag:noindex
X-PUBLISHED-TTL:PT1H
BEGIN:VTIMEZONE
TZID:America/New_York
BEGIN:DAYLIGHT
TZOFFSETFROM:-0500
TZOFFSETTO:-0400
TZNAME:EDT
DTSTART:20190310T070000
END:DAYLIGHT
BEGIN:STANDARD
TZOFFSETFROM:-0400
TZOFFSETTO:-0500
TZNAME:EST
DTSTART:20191103T060000
END:STANDARD
END:VTIMEZONE
BEGIN:VEVENT
DTSTART;TZID=America/New_York:20191006T120000
DTEND;TZID=America/New_York:20191006T120000
DTSTAMP:20260424T170311
CREATED:20190828T180236Z
LAST-MODIFIED:20190828T180236Z
UID:45385-1570363200-1570363200@venkmans.com
SUMMARY:Bottomless Mimosa Brunch with Shakta Jazz Trio
DESCRIPTION:TICKETING & RESERVATION INFO: \nTickets are not available for FREE shows. For seating at a FREE show\, please make reservations for the appropriate time at www.venkmans.com (see “Reservations”)\, or by calling 470-225-6162.
URL:https://venkmans.com/event/bottomless-mimosa-brunch-with-shakta-jazz-trio-15/
CATEGORIES:Ticketed Shows
END:VEVENT
BEGIN:VEVENT
DTSTART;TZID=America/New_York:20191006T183000
DTEND;TZID=America/New_York:20191006T200000
DTSTAMP:20260424T170311
CREATED:20190712T173433Z
LAST-MODIFIED:20191003T151346Z
UID:45282-1570386600-1570392000@venkmans.com
SUMMARY:The Ladies of Soul
DESCRIPTION:Join Mother/Daughter duo Keisha and Kourtney Jackson and relive the golden era of soul music! Tina Turner\, Gladys Knight\, the Supremes\, The Staple Singers\, the Ronettes\, Martha Reeves\, Dusty Springfield\, Dionne Warwick and more! \nKeisha has toured with OutKast\, Erykah Badu\, and Big Boi; Kourtney carries on the family tradition started by the matriarch of the musical family – soul legend Millie Jackson. They both also sing with the Yacht Rock Revue on the regular. \nTICKETING & RESERVATION INFO: \nPlease note: Communal seating is in the bar area at a high-top table and will be seated first come\, first serve as ticket holders for these seats arrive. \nGeneral Admission will be standing room only once all bar seats are occupied at our main bar or kitchen bar. \nAdditional reservations are not required if a table\, booth or banquette have been purchased via Big Tickets. \nReservations for the Captain’s Room (private dining room) can be reserved for parties of 12-24 guests. For more info contact info@venkmans.com.
URL:https://venkmans.com/event/the-ladies-of-60s-soul-5/
CATEGORIES:Ticketed Shows
END:VEVENT
END:VCALENDAR