BEGIN:VCALENDAR
VERSION:2.0
PRODID:-//Venkman&#039;s | 740 Ralph McGill Blvd. - ECPv5.16.1.1//NONSGML v1.0//EN
CALSCALE:GREGORIAN
METHOD:PUBLISH
X-ORIGINAL-URL:https://venkmans.com
X-WR-CALDESC:Events for Venkman&#039;s | 740 Ralph McGill Blvd.
REFRESH-INTERVAL;VALUE=DURATION:PT1H
X-Robots-Tag:noindex
X-PUBLISHED-TTL:PT1H
BEGIN:VTIMEZONE
TZID:America/New_York
BEGIN:DAYLIGHT
TZOFFSETFROM:-0500
TZOFFSETTO:-0400
TZNAME:EDT
DTSTART:20190310T070000
END:DAYLIGHT
BEGIN:STANDARD
TZOFFSETFROM:-0400
TZOFFSETTO:-0500
TZNAME:EST
DTSTART:20191103T060000
END:STANDARD
END:VTIMEZONE
BEGIN:VEVENT
DTSTART;TZID=America/New_York:20191004T183000
DTEND;TZID=America/New_York:20191004T183000
DTSTAMP:20260424T170614
CREATED:20190919T174157Z
LAST-MODIFIED:20190919T174157Z
UID:45438-1570213800-1570213800@venkmans.com
SUMMARY:Free Early Show: Dave Matthews Acoustic by These Crowded Streets
DESCRIPTION:Dustin Cottrell and Cameron Allen perform as a duo and with 5 piece band\, specializing in Dave Matthews as well as other great bands from the 90’s.  \nThis is a FREE event. Tickets are not required for FREE events\, but reservations are highly encouraged. See Venkmans.com (RESERVE) or by calling 470.225.6162
URL:https://venkmans.com/event/free-early-show-dave-matthews-acoustic-by-these-crowded-streets-3/
CATEGORIES:Ticketed Shows
END:VEVENT
BEGIN:VEVENT
DTSTART;TZID=America/New_York:20191004T213000
DTEND;TZID=America/New_York:20191004T213000
DTSTAMP:20260424T170614
CREATED:20190806T202545Z
LAST-MODIFIED:20190806T202545Z
UID:45357-1570224600-1570224600@venkmans.com
SUMMARY:Rock-Tober! Chick Rock: Flannel Nation + You Oughta Know
DESCRIPTION:It’s ROCK-TOBER and the chicks are taking over! \nJoin us on October 4th for a night of all things chick rock!  2 female fronted bands\, Flannel Nation and You Oughta Know\,  join forces to bring you a full evening of your favorite 90s tunes!  You’re not going to want to miss this one.  So gather your friends\, dig those old 90s outfits out of your closet and plan to be there!  \nYou Oughta Know is a high energy chick rock/alternative tribute band playing all your favorite hits from the 90s that you remember and ones you loved and forgot about!  Lead by 2 rockin’ redheads\, this band keeps you on your toes by mixing it up with sing-along 90’s anthems and then diving into headbanging\, grungy rock.  A definite trip down memory lane for those who lived it and an equally good time for those that didn’t!\n  Flannel Nation is a female fronted 90’s Grunge/Alt Rock Tribute band from Atlanta\, GA rocking your favorite songs from the best genre of angry\, outspoken\, rebellious and sweaty rock n’ roll music. The 5 piece has the contagious energy to make you want to bang your head and sing along. The band started in 2017 and has quickly broken through the local music scene playing at venues\, and festivals\, and private parties in the Atlanta area. They give 110% to entertain their loyal fans\, “rage babes”\, and friends who seem to pack out their shows every time. \n \nTicketing and Reservation Info:  \nPurchasing a General Admission ticket does not guarantee a seat/table. \nAdditional reservations are not required if a table\, booth or banquette have been purchased via Big Tickets. \nPLEASE NOTE: If earlier dinner reservations are made\, your seats are not guaranteed for the show. For example\, it is unlikely to be able to reserve a table at 8:00 pm and keep it for a 10:00 pm show. The only way to guarantee a seat for the show is to purchase table\, booth\, or banquette tickets. \nBar area and patio seating is reserved on a first-come\, first-serve basis. \nReservations for the Captain’s Room (private dining room) can be reserved for parties of 12-20 guests. For more info contact info@venkmans.com
URL:https://venkmans.com/event/rock-tober-chick-rock-flannel-nation-you-oughta-know/
CATEGORIES:Ticketed Shows
END:VEVENT
BEGIN:VEVENT
DTSTART;TZID=America/New_York:20191005T103000
DTEND;TZID=America/New_York:20191005T103000
DTSTAMP:20260424T170614
CREATED:20190919T160513Z
LAST-MODIFIED:20190919T160513Z
UID:45432-1570271400-1570271400@venkmans.com
SUMMARY:Princess Brunch: Beauty and the Beast
DESCRIPTION:Be Our Guest! Join us for Princess Brunch: Beauty and the Beast. FREE with RSVP at Venkmans.com (RESERVE) or by emailing info@venkmans.com. Bottomless mimosas available for purchase (for the adult kids!) 
URL:https://venkmans.com/event/princess-brunch-beauty-and-the-beast-9/
CATEGORIES:Ticketed Shows
END:VEVENT
END:VCALENDAR