BEGIN:VCALENDAR
VERSION:2.0
PRODID:-//Venkman&#039;s | 740 Ralph McGill Blvd. - ECPv5.16.1.1//NONSGML v1.0//EN
CALSCALE:GREGORIAN
METHOD:PUBLISH
X-WR-CALNAME:Venkman&#039;s | 740 Ralph McGill Blvd.
X-ORIGINAL-URL:https://venkmans.com
X-WR-CALDESC:Events for Venkman&#039;s | 740 Ralph McGill Blvd.
REFRESH-INTERVAL;VALUE=DURATION:PT1H
X-Robots-Tag:noindex
X-PUBLISHED-TTL:PT1H
BEGIN:VTIMEZONE
TZID:America/New_York
BEGIN:DAYLIGHT
TZOFFSETFROM:-0500
TZOFFSETTO:-0400
TZNAME:EDT
DTSTART:20170312T070000
END:DAYLIGHT
BEGIN:STANDARD
TZOFFSETFROM:-0400
TZOFFSETTO:-0500
TZNAME:EST
DTSTART:20171105T060000
END:STANDARD
END:VTIMEZONE
BEGIN:VEVENT
DTSTART;TZID=America/New_York:20170409T103000
DTEND;TZID=America/New_York:20170409T123000
DTSTAMP:20260424T221620
CREATED:20170321T163150Z
LAST-MODIFIED:20170410T051323Z
UID:18899-1491733800-1491741000@venkmans.com
SUMMARY:Super Sunday Brunch: The Incredibles
DESCRIPTION:Take your family brunch plans to new heights with Venkman’s Super Sunday Brunch! The sweetest duo you could imagine\, brunch and super movie screenings collide starting Sunday\, March 26th.  \nAdmission is FREE\, but reservations are encouraged. Brunch service begins at 10 AM\, movie begins promptly at 10:30 AM. \n3/26\, 4/9\, 4/30 – The Incredibles\n4/2 & 4/23 – Big Hero 6\nEvery Sunday in May – The Force Awakens \nTICKETING & RESERVATION INFO: \nTickets are not available for FREE shows. For seating at a FREE show\, please make reservations for the appropriate time at www.venkmans.com (see “Reservations”)\, or by calling 470-225-6162.
URL:https://venkmans.com/event/super-sunday-brunch-the-incredibles-2/
CATEGORIES:Music
END:VEVENT
BEGIN:VEVENT
DTSTART;TZID=America/New_York:20170409T123000
DTEND;TZID=America/New_York:20170409T150000
DTSTAMP:20260424T221620
CREATED:20170311T021431Z
LAST-MODIFIED:20170410T051323Z
UID:18797-1491741000-1491750000@venkmans.com
SUMMARY:Bottomless Mimosa Brunch w/ The Tray Dahl Jazz Quintet
DESCRIPTION:Purists Beware! Tray Dahl & The Jugtime Ragband is not jug band\, ragtime\, or dixieland. It is an energetic amalgamation of all three immersed in an early New Orleans sound with a style that also incorporates a little blues\, a bit of swing\, and some old time gospel tones. We get people’s feet stomping in a roaring twenties kind of way. Our sound has been described by many as “speakeasy” or “prohibition era” music. Our songs match the early New Orleans jazz/blues instrumentation combo of tenor banjo and trumpet with upbeat dixieland and swing tempos underlying a heavy dose of powerful 1920’s inspired vocals stylistically akin to Bessie Smith\, Clara Smith\, and Louis Armstrong. Our main influences include Louis Armstrong and the Boswell Sisters. We play songs composed by some of the best songwriters from the early and mid-twentieth century alongside our original tunes which are heavily influenced by their work. Our songwriting style consists of writing stories that take listeners back in time through the experiences of our main characters whose tales\, so far\, have taken place anywhere from the 1860’s to 1930’s. \nRESERVATION INFO: \nTickets are not available for FREE shows. For seating at a FREE show\, please make reservations for the appropriate time at www.venkmans.com (see “Reservations”)\, or by calling 470-225-6162.
URL:https://venkmans.com/event/bottomless-mimosa-brunch-w-the-tray-dahl-jazz-quintet/
CATEGORIES:Music
END:VEVENT
END:VCALENDAR