BEGIN:VCALENDAR
VERSION:2.0
PRODID:-//Venkman&#039;s | 740 Ralph McGill Blvd. - ECPv5.16.1.1//NONSGML v1.0//EN
CALSCALE:GREGORIAN
METHOD:PUBLISH
X-WR-CALNAME:Venkman&#039;s | 740 Ralph McGill Blvd.
X-ORIGINAL-URL:https://venkmans.com
X-WR-CALDESC:Events for Venkman&#039;s | 740 Ralph McGill Blvd.
REFRESH-INTERVAL;VALUE=DURATION:PT1H
X-Robots-Tag:noindex
X-PUBLISHED-TTL:PT1H
BEGIN:VTIMEZONE
TZID:America/New_York
BEGIN:DAYLIGHT
TZOFFSETFROM:-0500
TZOFFSETTO:-0400
TZNAME:EDT
DTSTART:20170312T070000
END:DAYLIGHT
BEGIN:STANDARD
TZOFFSETFROM:-0400
TZOFFSETTO:-0500
TZNAME:EST
DTSTART:20171105T060000
END:STANDARD
END:VTIMEZONE
BEGIN:VEVENT
DTSTART;TZID=America/New_York:20170407T183000
DTEND;TZID=America/New_York:20170407T203000
DTSTAMP:20260424T171209
CREATED:20170311T021431Z
LAST-MODIFIED:20170408T051405Z
UID:18795-1491589800-1491597000@venkmans.com
SUMMARY:EARLY SHOW: Thor's Hammer
DESCRIPTION:When they’re not playing with Yacht Rock Schooner\, you can find Doug and Ganesh playing progressive rock with Agent Cooper\, or taking requests and starting sing alongs with Thor’s Hammer.  \nThor’s Hammer started as a project for fun\, a chance for two friends to blow off some steam playing some classic songs they’d always loved. Audiences soon found out that their talent and experience meant they’d hear some great singers sing some great songs\, and were likely to see something they didn’t expect.  \nDoug Busbee and Ganesh Giri Jaya are both lifelong performers\, with decades of shows behind them\, and Thor’s Hammer draws on their wide-ranging pop repertoire to deliver forgotten gems\, timeless classics\, and of course some smooth yachty standards. \nRESERVATION INFO: \nTickets are not available for FREE shows. For seating at a FREE show\, please make reservations for the appropriate time at www.venkmans.com (see “Reservations”)\, or by calling 470-225-6162.
URL:https://venkmans.com/event/early-show-thors-hammer-3/
CATEGORIES:Music
END:VEVENT
BEGIN:VEVENT
DTSTART;TZID=America/New_York:20170407T220000
DTEND;TZID=America/New_York:20170407T220000
DTSTAMP:20260424T171209
CREATED:20170121T032947Z
LAST-MODIFIED:20170408T051405Z
UID:18601-1491602400-1491602400@venkmans.com
SUMMARY:Atlanta Funk Society
DESCRIPTION:Atlanta Funk Society is a Funk band from Atlanta\, GA\, playing classic hits from the ’60s\, ’70s and ’80s\, including everything from “Superbad” by James Brown\, to “Whatcha Gonna Do For Me” by Chaka Kahn.  \nStarted in the summer of 2010\, the Atlanta Funk Society brought together a collection of some of the best musicians Atlanta had to offer. Founding members guitarist and vocalist Rob Lane (the Apostles) and bass player Kevin Scott (Col. Bruce Hampton\, and others too numerous to mention) wanted to fill the need for a hard hitting funk band playing classic hits from the 60’s\, 70’s and 80’s.  \nTheir first call was to Jonathan Lloyd(Cadillac Jones\, Lloyds Rocksteady Review)\, local trombone player and vocalist to put together the horn section which has included Deniz Felder\, Jason Collier\, Jon Marett (Willie Nelson\, Waylon Jennings\, OutKast\, Goodie Mob)\, Prof. Eric Fontaine (just about every great band in Atlanta)\, and Taylor Kennedy (Soulphonics\, Blair Crimmins). Next to join were guitarist Nick Johnson(Last Waltz Ensemble\, Pharoh Gummitt) and drummer Duane Trucks(Derek Trucks\, Pharoh Gummit) lending their unrivaled musicianship to the group. The keyboards were manned by Florida transplant and first call pianist Nick Rosen. Scotty Bryan (Cinetrope\, 3052 dub Collective) stepped up the bands’ vibe with the addition of percussion.  \nThe next critical piece was a female vocalist\, and after a long search\, Michelle Marshall came into the fold and showed what was up. The last piece was additional percussionist Yaya Brown to provide the perfect complement to Scotty Bryan and complete the driving rhythms of AFS. \nTICKETING & RESERVATION INFO: \nPurchasing a General Admission ticket does not guarantee a seat/table. \nAdditional reservations are not required if booth\, table\, or banquette tickets have been purchased via Ticketfly. \nPLEASE NOTE: If earlier dinner reservations are made\, your seats are not guaranteed for the show. For example\, you cannot reserve a table at 7:00pm and keep it for a 9:30pm show. The only way to guarantee a seat for the show is to purchase booth or banquette tickets. \nReservations for the Captain’s Room (private dining room) can be reserved for parties of 12-20 guests. For more info call 470-225-6162.
URL:https://venkmans.com/event/atlanta-funk-society/
CATEGORIES:Music
END:VEVENT
END:VCALENDAR