BEGIN:VCALENDAR
VERSION:2.0
PRODID:-//Venkman&#039;s | 740 Ralph McGill Blvd. - ECPv5.16.1.1//NONSGML v1.0//EN
CALSCALE:GREGORIAN
METHOD:PUBLISH
X-ORIGINAL-URL:https://venkmans.com
X-WR-CALDESC:Events for Venkman&#039;s | 740 Ralph McGill Blvd.
REFRESH-INTERVAL;VALUE=DURATION:PT1H
X-Robots-Tag:noindex
X-PUBLISHED-TTL:PT1H
BEGIN:VTIMEZONE
TZID:America/New_York
BEGIN:DAYLIGHT
TZOFFSETFROM:-0500
TZOFFSETTO:-0400
TZNAME:EDT
DTSTART:20170312T070000
END:DAYLIGHT
BEGIN:STANDARD
TZOFFSETFROM:-0400
TZOFFSETTO:-0500
TZNAME:EST
DTSTART:20171105T060000
END:STANDARD
END:VTIMEZONE
BEGIN:VEVENT
DTSTART;TZID=America/New_York:20170406T193000
DTEND;TZID=America/New_York:20170406T193000
DTSTAMP:20260424T104243
CREATED:20170322T051318Z
LAST-MODIFIED:20170407T153504Z
UID:18913-1491507000-1491507000@venkmans.com
SUMMARY:(Not Annoying) Trivia
DESCRIPTION:**(Not Annoying) Trivia at Venkman’s will move to Wednesdays starting April 12th** \n(Not Annoying) Trivia brings you everything you love about trivia – mind-bending questions\, group camaraderie\, great music\, food and drink specials\, prizes – without the one thing you don’t – annoying DJ chatter! Hosted by DJ Quasi Mandisco of Clermont Lounge fame with his trusty overhead projector\, this uniquely Venkman’s take on trivia will get your competitive spirit racing without getting your blood boiling by hearing “Get those answers in” for the 500th time. \nSign-ups and music kick off at 7pm\, with competition rocking at 7:30pm every Wednesday. \nTICKETING & RESERVATION INFO: \nTickets are not available for FREE shows. For seating at a FREE show\, please make reservations for the appropriate time at www.venkmans.com (see “Reservations”)\, or by calling 470-225-6162.
URL:https://venkmans.com/event/not-annoying-trivia-13/
CATEGORIES:Music
END:VEVENT
BEGIN:VEVENT
DTSTART;TZID=America/New_York:20170406T213000
DTEND;TZID=America/New_York:20170406T213000
DTSTAMP:20260424T104243
CREATED:20170219T140521Z
LAST-MODIFIED:20170407T051647Z
UID:18688-1491514200-1491514200@venkmans.com
SUMMARY:Rumpke Mountain Boys
DESCRIPTION:Rumpke Mountain Boys combine signature vocals\, a unique command of string instruments (acoustic guitar\, mandolin\, upright bass and banjo) and dynamic special effects into a singular musical experience. An emotion filled musical stream of consciousness with no setlist\, minimal structure\, and intuitive improvisational flow. In this way\, they summon the energy of the crowd as their guide in linking just the right music to precise moments in time. \nGrateful Dead Hour host David Gans proclaimed\, “One of the things I love about the Rumpke Mountain Boys is that there’s a fundamental honesty in their presentation. This is something they share with my other heroes\, Donna the Buffalo and the Grateful Dead. They don’t make set lists ahead of time\, they don’t rehearse their songs to a fare-thee-well– they perform in real time. All four of them write\, which is very important\, and they draw songs from a tremendous variety of sources… being a musician is a life-long learning experience\, if you’re doing it right\, and they are.” \nLike playing around a campfire\, the Boys take turns calling the next tune\, distilling shows from a sea of infinite notes created from years of jamming. Drawing upon a growing catalog of originals and and an ecclectic mix of covers\, the Rumpke Mountain Boys blend music like a fine Irish whiskey– the result affectionately dubbed Trashgrass. The Boys titled their 2012 album release with the same name\, followed by their 2013 release\, Moon\, which was recorded at the famed Royal Studios in Memphis. 2016’s High Time\, Low Tide marks the release of their 4th self-produced album.  \n2016 was outstanding for the string quartet. The Boys  broke new ground throughout the the country including Colorado\, California\, Oregon\, and the Southeast. Finishing up the year with two stellar highlights\, their own Snuggleween and the Rumpke Mountain Boys New Years Eve Ball in their hometown of Cincinnati. \n2017 promises to be even better\, with extensive touring from coast to coast and the best festival lineup yet. Keep your ear to the ground because the Rumpke Mountain Boys are rolling into a town near you! \nTICKETING & RESERVATION INFO: \nPurchasing a General Admission ticket does not guarantee a seat/table. Bar area seating is reserved on a first-come\, first-serve basis. \nAdditional reservations are not required if table\, booth\, or banquette tickets have been purchased via Ticketfly. \nPLEASE NOTE: If earlier dinner reservations are made\, your seats are not guaranteed for the show. For example\, if you reserve seats for 7:00pm dinner\, it is unlikely that you’ll be able to keep it for a 9:00pm show. The only way to guarantee a seat for the show is to purchase booth\, table\, or banquette tickets via Ticketfly. \nReservations for the Captain’s Room (private dining room) can be reserved for parties of 12-20 guests. For more info call 470-225-6162.
URL:https://venkmans.com/event/rumpke-mountain-boys/
CATEGORIES:Music
END:VEVENT
END:VCALENDAR