BEGIN:VCALENDAR
VERSION:2.0
PRODID:-//Venkman&#039;s | 740 Ralph McGill Blvd. - ECPv5.16.1.1//NONSGML v1.0//EN
CALSCALE:GREGORIAN
METHOD:PUBLISH
X-WR-CALNAME:Venkman&#039;s | 740 Ralph McGill Blvd.
X-ORIGINAL-URL:https://venkmans.com
X-WR-CALDESC:Events for Venkman&#039;s | 740 Ralph McGill Blvd.
REFRESH-INTERVAL;VALUE=DURATION:PT1H
X-Robots-Tag:noindex
X-PUBLISHED-TTL:PT1H
BEGIN:VTIMEZONE
TZID:America/New_York
BEGIN:DAYLIGHT
TZOFFSETFROM:-0500
TZOFFSETTO:-0400
TZNAME:EDT
DTSTART:20170312T070000
END:DAYLIGHT
BEGIN:STANDARD
TZOFFSETFROM:-0400
TZOFFSETTO:-0500
TZNAME:EST
DTSTART:20171105T060000
END:STANDARD
END:VTIMEZONE
BEGIN:VEVENT
DTSTART;TZID=America/New_York:20170402T103000
DTEND;TZID=America/New_York:20170402T123000
DTSTAMP:20260424T060740
CREATED:20170321T163147Z
LAST-MODIFIED:20170403T051307Z
UID:18897-1491129000-1491136200@venkmans.com
SUMMARY:Super Sunday Brunch: Big Hero 6
DESCRIPTION:Take your family brunch plans to new heights with Venkman’s Super Sunday Brunch! The sweetest duo you could imagine\, brunch and super movie screenings collide starting Sunday\, March 26th.  \nAdmission is FREE\, but reservations are encouraged. Brunch service begins at 10 AM\, movie begins promptly at 10:30 AM. \n3/26\, 4/9\, 4/30 – The Incredibles\n4/2 & 4/23 – Big Hero 6\nEvery Sunday in May – The Force Awakens \nTICKETING & RESERVATION INFO: \nTickets are not available for FREE shows. For seating at a FREE show\, please make reservations for the appropriate time at www.venkmans.com (see “Reservations”)\, or by calling 470-225-6162.
URL:https://venkmans.com/event/super-sunday-brunch-big-hero-6/
CATEGORIES:Music
END:VEVENT
BEGIN:VEVENT
DTSTART;TZID=America/New_York:20170402T123000
DTEND;TZID=America/New_York:20170402T150000
DTSTAMP:20260424T060740
CREATED:20170311T021429Z
LAST-MODIFIED:20170403T051307Z
UID:18792-1491136200-1491145200@venkmans.com
SUMMARY:Bottomless Mimosa Brunch w/ Shakta Jazz Trio featuring Chapman and Watters
DESCRIPTION:
URL:https://venkmans.com/event/bottomless-mimosa-brunch-w-shakta-jazz-trio-featuring-chapman-and-watters/
CATEGORIES:Music
END:VEVENT
END:VCALENDAR