BEGIN:VCALENDAR
VERSION:2.0
PRODID:-//Venkman&#039;s | 740 Ralph McGill Blvd. - ECPv5.16.1.1//NONSGML v1.0//EN
CALSCALE:GREGORIAN
METHOD:PUBLISH
X-WR-CALNAME:Venkman&#039;s | 740 Ralph McGill Blvd.
X-ORIGINAL-URL:https://venkmans.com
X-WR-CALDESC:Events for Venkman&#039;s | 740 Ralph McGill Blvd.
REFRESH-INTERVAL;VALUE=DURATION:PT1H
X-Robots-Tag:noindex
X-PUBLISHED-TTL:PT1H
BEGIN:VTIMEZONE
TZID:America/New_York
BEGIN:DAYLIGHT
TZOFFSETFROM:-0500
TZOFFSETTO:-0400
TZNAME:EDT
DTSTART:20170312T070000
END:DAYLIGHT
BEGIN:STANDARD
TZOFFSETFROM:-0400
TZOFFSETTO:-0500
TZNAME:EST
DTSTART:20171105T060000
END:STANDARD
END:VTIMEZONE
BEGIN:VEVENT
DTSTART;TZID=America/New_York:20170331T194500
DTEND;TZID=America/New_York:20170331T235900
DTSTAMP:20260424T032526
CREATED:20170304T170248Z
LAST-MODIFIED:20170401T051445Z
UID:18716-1490989500-1491004740@venkmans.com
SUMMARY:500 Songs For Kids XI
DESCRIPTION:This year’s 500 SONGS features over 1000 musicians performing the 500 Greatest Feel-Good Songs of All Time. It takes place over 12 nights\, spread out over 6 consecutive weekends. The benefit lands at Venkman’s on March 31/April 1 and April 21/22. \nAdmission price: Pay what you want! \nAre you a performer interested in participating?  Please visit\nhttp://www.songsforkids.org/500SongsForKids to submit an application to perform. \nAll proceeds benefit Songs For Kids Foundation: \nSongs For Kids Foundation exists to give kids battling serious illness opportunities to be creative and express themselves through music. We’ve brought music into hospitals all over the US and run regular programs in children’s hospitals in 5 states. Songs for Kids musicians perform in-hospital mini concerts for whole floors of patients and make individual bedside visits for kids who don’t have the chance to leave their rooms. We’re not there to just play a couple of songs\, provide a distraction\, and leave; our goal is to form the kinds of meaningful relationships that it takes to help kids deal with their illnesses through creativity. \nIn addition to hospital performances\, we provide opportunities for\nsongwriting and recording to give kids a chance to put their\nexperiences into words and feel a sense of accomplishment. This year\, we’ll be taking that work one step further by launching a one-on-one music mentorship program that will be available to kids both in and out of the hospital. Kids who join the program will work with their own Songs For Kids musician on a dedicated music project. Whether that means songwriting\, singing lessons\, or learning an instrument\, we can’t wait to see and showcase the awesome work they do together. \nSongs For Kids: we’re honored to rock with the kids who need us most. \nTICKETING & RESERVATION INFO: \nDonations are highly encouraged and can be accepted at the door. \nAdvance dinner reservations are highly encouraged and can be made at venkmans.com\, or by calling 470-225-6162.
URL:https://venkmans.com/event/500-songs-for-kids-xi/
CATEGORIES:Music
END:VEVENT
BEGIN:VEVENT
DTSTART;TZID=America/New_York:20170401T103000
DTEND;TZID=America/New_York:20170401T121500
DTSTAMP:20260424T032526
CREATED:20170308T174343Z
LAST-MODIFIED:20170402T051333Z
UID:18757-1491042600-1491048900@venkmans.com
SUMMARY:Princess Brunch: Aladdin 25th Anniversary!
DESCRIPTION:Join us at the V on the mornings of April 1st\, 15th\, 22nd\, and 29th in celebration of Aladdin’s 25th Anniversary! In this dazzling fantasy based on the Arabian Nights folktale\, street urchin Aladdin comes into possession of a magic lamp and uses its power to woo a princess; as the lamp’s wisecracking Genie\, Robin Williams is at his stream-of-consciousness best. Free with RSVP. Enjoy a royal brunch feast complete with bottomless mimosas ($18/person) for the adult kids. \nTICKETING & RESERVATION INFO: \nTickets are not available for FREE shows. For seating at a FREE show\, please make reservations for the appropriate time at www.venkmans.com (see “Reservations”)\, or by calling 470-225-6162.
URL:https://venkmans.com/event/princess-brunch-aladdin-25th-anniversary/
CATEGORIES:Music
END:VEVENT
END:VCALENDAR