BEGIN:VCALENDAR
VERSION:2.0
PRODID:-//Venkman&#039;s | 740 Ralph McGill Blvd. - ECPv5.16.1.1//NONSGML v1.0//EN
CALSCALE:GREGORIAN
METHOD:PUBLISH
X-WR-CALNAME:Venkman&#039;s | 740 Ralph McGill Blvd.
X-ORIGINAL-URL:https://venkmans.com
X-WR-CALDESC:Events for Venkman&#039;s | 740 Ralph McGill Blvd.
REFRESH-INTERVAL;VALUE=DURATION:PT1H
X-Robots-Tag:noindex
X-PUBLISHED-TTL:PT1H
BEGIN:VTIMEZONE
TZID:America/New_York
BEGIN:DAYLIGHT
TZOFFSETFROM:-0500
TZOFFSETTO:-0400
TZNAME:EDT
DTSTART:20170312T070000
END:DAYLIGHT
BEGIN:STANDARD
TZOFFSETFROM:-0400
TZOFFSETTO:-0500
TZNAME:EST
DTSTART:20171105T060000
END:STANDARD
END:VTIMEZONE
BEGIN:VEVENT
DTSTART;TZID=America/New_York:20170325T103000
DTEND;TZID=America/New_York:20170325T121500
DTSTAMP:20260424T044510
CREATED:20170124T160848Z
LAST-MODIFIED:20170326T051442Z
UID:18609-1490437800-1490444100@venkmans.com
SUMMARY:Princess Brunch: The Little Mermaid
DESCRIPTION:Make your friends at Venkman’s ‘Part of Your World’ on March 4th\, 18th\, and 25th for three very special screenings of the Disney classic\, Little Mermaid. Enjoy a royal brunch feast ‘Under the Sea’ complete with Little Mermosa drinks specials for the adult kids. \nTICKETING & RESERVATION INFO: \nTickets are not available for FREE shows. For seating at a FREE show\, please make reservations for the appropriate time at www.venkmans.com (see “Reservations”)\, or by calling 470-225-6162.
URL:https://venkmans.com/event/princess-brunch-the-little-mermaid-3/
CATEGORIES:Music
END:VEVENT
BEGIN:VEVENT
DTSTART;TZID=America/New_York:20170325T120000
DTEND;TZID=America/New_York:20170325T170000
DTSTAMP:20260424T044510
CREATED:20170301T154905Z
LAST-MODIFIED:20170317T213833Z
UID:18698-1490443200-1490461200@venkmans.com
SUMMARY:OUTDOOR FESTIVAL: Bluegrass & BBQ Festival and Cook-Off
DESCRIPTION:Presented by Venkman’s and Big Green Egg \nStrap on your best boots and join us at Venkman’s for some good Bluegrass music along with some great BBQ! On Saturday\, March 25\, from 12:00 p.m. until 5:00 p.m.\, you can enjoy live performances from Sailing to Denver and Dusty Roads as well as some of your favorite barbecue straight off of the Big Green Egg from multiple ATL Chefs. For just $45\, guests will enjoy unlimited samples from some of Atlanta’s top chefs\, 2 drink tickets\, live tunes\, and an opportunity to win a Big Green Egg! Pair your tasty barbecue choices of Cheshire Farms and Brasstown Beef\, with whiskey\, beer\, or wine. \nWe will also run a Mini Max Egg raffle with proceeds being donated to The Giving Kitchen! \nFeatured Chefs: \nTerry Koval of Wrecking Bar \nJudd Foster of South of Heaven BBQ \nRusty Bowers of Pine Street Market \nHector Santiago of El Super Pan \nNick Melvin of Venkman’s \nBennett Hollberg of Fox Brothers BBQ
URL:https://venkmans.com/event/outdoor-festival-bluegrass-bbq-festival-cook-off/
CATEGORIES:Music
END:VEVENT
BEGIN:VEVENT
DTSTART;TZID=America/New_York:20170325T130000
DTEND;TZID=America/New_York:20170325T150000
DTSTAMP:20260424T044510
CREATED:20170311T021424Z
LAST-MODIFIED:20170326T051442Z
UID:18788-1490446800-1490454000@venkmans.com
SUMMARY:Chicken Pickin' Brunch with Rodeo Twister
DESCRIPTION:Rodeo Twister play original rockabilly and honky-tonk music the way God intended it: without the use of them demon drums! But don’t worry your toes won’t tap or your hips won’t shake. The slap of the upright bass and the chugga-chugga of the rhythm guitar keep the beat just as good as the crack of snare – maybe even better. The three Twisters are veterans of Atlanta’s “Redneck Underground” roots music scene and have been members of so many “Best of Atlanta” lists they’ve lost count. Now all together for the first time\, they’re bringing a huge crop of brand-new songs and choice covers plus a secret weapon – some of the sweetest two and three-part harmonies you’ve ever heard. And you can hear ‘em\, too… without all that bangedy-bang of them demon drums! \nTICKETING & RESERVATION INFO: \nTickets are not available for FREE shows. For seating at a FREE show\, please make reservations for the appropriate time at www.venkmans.com (see “Reservations”)\, or by calling 470-225-6162.
URL:https://venkmans.com/event/chicken-pickin-brunch-with-rodeo-twister/
CATEGORIES:Music
END:VEVENT
BEGIN:VEVENT
DTSTART;TZID=America/New_York:20170325T183000
DTEND;TZID=America/New_York:20170325T203000
DTSTAMP:20260424T044510
CREATED:20170307T051329Z
LAST-MODIFIED:20170326T051442Z
UID:18751-1490466600-1490473800@venkmans.com
SUMMARY:EARLY SHOW: Dave Franklin
DESCRIPTION:Dave Franklin is a renowned singer-songwriter from the Atlanta music scene\, and former member of the legendary Atlanta alternative rock band\, hollyfaith.  Franklin has also toured and recorded with drivin’ n’ cryin’\, Kristen Hall\, Billy Pilgrim\, and opened for Johnny & June Carter Cash\, Sinead O’Connor\, and Jewel.  Dave has released 3 full-length critically-acclaimed albums and is currently working on his fourth. \nTICKETING & RESERVATION INFO: \nTickets are not available for FREE shows. For seating at a FREE show\, please make reservations for the appropriate time at www.venkmans.com (see “Reservations”)\, or by calling 470-225-6162.
URL:https://venkmans.com/event/early-show-dave-franklin/
CATEGORIES:Music
END:VEVENT
BEGIN:VEVENT
DTSTART;TZID=America/New_York:20170325T213000
DTEND;TZID=America/New_York:20170325T213000
DTSTAMP:20260424T044511
CREATED:20170303T051340Z
LAST-MODIFIED:20170326T051442Z
UID:18713-1490477400-1490477400@venkmans.com
SUMMARY:NIGHT TWO! Prince: The B-Sides
DESCRIPTION:Due to popular demand\, we have added a SECOND NIGHT of Prince’s B-Sides on Saturday\, March 25th!  \nNo other artist has been as prolific in creating music as PRINCE. This show is dedicated to Prince’s famous catalogue of vinyl B-side singles….with a few unreleased tracks that may make it into the setlist.  \nMusical Director\, Khari Cabral Simmons\, is taking us on a journey through some of Prince’s most riveting and revered works that created a movement from the B-side! \nTICKETING & RESERVATION INFO: \nPurchasing a General Admission ticket does not guarantee a seat/table. \nAdditional reservations are not required if a table\, booth or banquette have been purchased via Ticketfly. \nPLEASE NOTE: If earlier dinner reservations are made\, your seats are not guaranteed for the show. For example\, it is unlikely that you will be able to make reserve a table at 7:30pm and keep it for a 9:30pm show. The only way to guarantee a seat for the show is to purchase table\, booth\, or banquette tickets. \nBar area and patio seating is reserved on a first-come\, first-serve basis. \nReservations for the Captain’s Room (private dining room) can be reserved for parties of 12-20 guests. For more info call 470-225-6162.
URL:https://venkmans.com/event/night-two-prince-the-b-sides/
CATEGORIES:Music
END:VEVENT
BEGIN:VEVENT
DTSTART;TZID=America/New_York:20170326T103000
DTEND;TZID=America/New_York:20170326T123000
DTSTAMP:20260424T044511
CREATED:20170321T163143Z
LAST-MODIFIED:20170327T051633Z
UID:18895-1490524200-1490531400@venkmans.com
SUMMARY:Super Sunday Brunch: The Incredibles
DESCRIPTION:Take your family brunch plans to new heights with Venkman’s Super Sunday Brunch! The sweetest duo you could imagine\, brunch and super movie screenings collide starting Sunday\, March 26th.  \nAdmission is FREE\, but reservations are encouraged. Brunch service begins at 10 AM\, movie begins promptly at 10:30 AM. \n3/26\, 4/9\, 4/30 – The Incredibles\n4/2 & 4/23 – Big Hero 6\nEvery Sunday in May – The Force Awakens \nTICKETING & RESERVATION INFO: \nTickets are not available for FREE shows. For seating at a FREE show\, please make reservations for the appropriate time at www.venkmans.com (see “Reservations”)\, or by calling 470-225-6162.
URL:https://venkmans.com/event/super-sunday-brunch-the-incredibles/
CATEGORIES:Music
END:VEVENT
END:VCALENDAR