BEGIN:VCALENDAR
VERSION:2.0
PRODID:-//Venkman&#039;s | 740 Ralph McGill Blvd. - ECPv5.16.1.1//NONSGML v1.0//EN
CALSCALE:GREGORIAN
METHOD:PUBLISH
X-ORIGINAL-URL:https://venkmans.com
X-WR-CALDESC:Events for Venkman&#039;s | 740 Ralph McGill Blvd.
REFRESH-INTERVAL;VALUE=DURATION:PT1H
X-Robots-Tag:noindex
X-PUBLISHED-TTL:PT1H
BEGIN:VTIMEZONE
TZID:America/New_York
BEGIN:DAYLIGHT
TZOFFSETFROM:-0500
TZOFFSETTO:-0400
TZNAME:EDT
DTSTART:20170312T070000
END:DAYLIGHT
BEGIN:STANDARD
TZOFFSETFROM:-0400
TZOFFSETTO:-0500
TZNAME:EST
DTSTART:20171105T060000
END:STANDARD
END:VTIMEZONE
BEGIN:VEVENT
DTSTART;TZID=America/New_York:20170319T123000
DTEND;TZID=America/New_York:20170319T143000
DTSTAMP:20260424T032840
CREATED:20170306T211552Z
LAST-MODIFIED:20170320T051810Z
UID:18731-1489926600-1489933800@venkmans.com
SUMMARY:Bottomless Mimosa Brunch w/ Matthew Kaminski Trio
DESCRIPTION:Featuring Ben Bailey on drums and Dave Frackenpohl on guitar. \nBorn in Chicago\, IL\, Matthew Kaminski has been playing the Hammond Organ since he was five years old. Studying under Chicago jazz pianist Gordon James in his teens\, Matthew was accepted into the University of Arizona’s jazz studies department as a jazz pianist. There\, he studied jazz with Dr. Jeffrey Haskell and Mike Eckroth\, and played in the jazz ensemble and combos as well as studying classical piano with Dr. Suzanne Knosp. Matthew also attended master classes by Wynton Marsalis and Kitty Margolis\, and performed with vibraphonists/marimba musicians Dave Samuels and Dave Friedman. \nMatthew has a passion for jazz organ playing and has studied with Hammond B3 masters Ike Stubblefield\, Tony Monaco\, and Scott Giddens\, as well a sharing the stage with fellow organists Pat Bianchi\, Linda Dachtyl\, Wil Blades\, Todd Hildreth and guitarist Grant Green Jr. Additionally\, Matthew has been a full time piano teacher since 2001 and currently teaches at The North Fulton School of Music’s Atlanta locations\, Callanwolde Fine Arts Center\, and has taught at the college level for Georgia Tech in Atlanta\, GA. Matthew continues to perform regularly in the Atlanta\, GA metro area on three instruments: the Hammond organ\, piano\, and accordion. \nTICKETING & RESERVATION INFO: \nTickets are not available for FREE shows. For seating at a FREE show\, please make reservations for the appropriate time at www.venkmans.com (see “Reservations”)\, or by calling 470-225-6162.
URL:https://venkmans.com/event/bottomless-mimosa-brunch-w-matthew-kaminski-trio/
CATEGORIES:Music
END:VEVENT
END:VCALENDAR