BEGIN:VCALENDAR
VERSION:2.0
PRODID:-//Venkman&#039;s | 740 Ralph McGill Blvd. - ECPv5.16.1.1//NONSGML v1.0//EN
CALSCALE:GREGORIAN
METHOD:PUBLISH
X-WR-CALNAME:Venkman&#039;s | 740 Ralph McGill Blvd.
X-ORIGINAL-URL:https://venkmans.com
X-WR-CALDESC:Events for Venkman&#039;s | 740 Ralph McGill Blvd.
REFRESH-INTERVAL;VALUE=DURATION:PT1H
X-Robots-Tag:noindex
X-PUBLISHED-TTL:PT1H
BEGIN:VTIMEZONE
TZID:America/New_York
BEGIN:DAYLIGHT
TZOFFSETFROM:-0500
TZOFFSETTO:-0400
TZNAME:EDT
DTSTART:20170312T070000
END:DAYLIGHT
BEGIN:STANDARD
TZOFFSETFROM:-0400
TZOFFSETTO:-0500
TZNAME:EST
DTSTART:20171105T060000
END:STANDARD
END:VTIMEZONE
BEGIN:VEVENT
DTSTART;TZID=America/New_York:20170316T193000
DTEND;TZID=America/New_York:20170316T193000
DTSTAMP:20260424T050255
CREATED:20170210T232029Z
LAST-MODIFIED:20170317T051805Z
UID:18660-1489692600-1489692600@venkmans.com
SUMMARY:(Not Annoying) Trivia
DESCRIPTION:(Not Annoying) Trivia at Venkman’s brings you everything you love about trivia – mind-bending questions\, group camaraderie\, great music\, food and drink specials\, prizes – without the one thing you don’t – annoying DJ chatter! Hosted by DJ Quasi Mandisco of Clermont Lounge fame with his trusty overhead projector\, this uniquely Venkman’s take on trivia will get your competitive spirit racing without getting your blood boiling by hearing “Get those answers in” for the 500th time.  \nSign-ups and music kick off at 7pm\, with competition rocking at 7:30pm every Thursday. \nTICKETING & RESERVATION INFO: \nTickets are not available for FREE shows. For seating at a FREE show\, please make reservations for the appropriate time at www.venkmans.com (see “Reservations”)\, or by calling 470-225-6162.
URL:https://venkmans.com/event/not-annoying-trivia-10/
CATEGORIES:Music
END:VEVENT
BEGIN:VEVENT
DTSTART;TZID=America/New_York:20170316T210000
DTEND;TZID=America/New_York:20170316T210000
DTSTAMP:20260424T050255
CREATED:20170204T155841Z
LAST-MODIFIED:20170317T051805Z
UID:18627-1489698000-1489698000@venkmans.com
SUMMARY:Ansley Stewart Album Release with special guest\, Rick Lollar
DESCRIPTION:Whether singing one of her originals for an intimate audience\, or a Hall & Oates song for a wedding crowd\, Atlanta-based singer Ansley Stewart has been turning heads everywhere she goes and is poised to turn many more. Until recently\, she was a part-time musician and a full-time academic advisor for The University of Georgia’s Music Business program in her hometown of Athens. She had been singing semi-professionally in her free time for over a decade but her love of music\, her ambitions\, and her voice were just too big for her old life to hold. The turning point from weekend warrior to full-time singer/songwriter came in 2015 and she isn’t looking back. A stack of original songs\, a head full of influences like Aretha Franklin\, Susan Tedeschi and Bonnie Raitt (“no shrinking violets”)\, and hundreds of donations to a successful Kickstarter campaign have culminated in the completion of her first record and CD release in March.  \nAlthough singing is not new to Ansley\, the desire to write her own songs is a recent development. “It’s all pretty personal right now\,” she says. “There are some really big stories and moments in my life that I feel like I need to get out through songwriting. But I still want to make it universal enough that someone else could say ‘Wow\, I’ve been through that’ or ‘Damn\, that’s catchy as hell.’”  \nAnsley had been involved in music since her late teens\, singing in cover bands and doing session work for her friends’ original projects. She loved making music and felt an urge to do more\, but was in the middle of a secure career and was hesitant to change course. In 2014\, the Atlanta-based Emerald Empire Band began throwing gigs her way. The Emerald crew was taken by her savvy professionalism\, positivity to spare\, and voice to be reckoned with\, and they soon began imploring her to move to Atlanta. Life in Athens wasn’t bad for Ansley; she had a good job and owned a house. But she knew music was her greatest joy and on her 30th birthday\, made the decision to follow that path. She quit her job\, sold her house\, moved to Atlanta\, and has been singing nonstop ever since.  \nThe career change has resulted in a happier Ansley than ever before. The music she makes every day and especially the people she makes it with are fulfilling her in ways she only dreamed of. In addition to finding her voice as an original artist and her footing as a professional\, she has found a supportive\, creative and generous musical family in her new home. “I’ve always wanted to be around creative people—in the treehouse\, as I say—and that’s what Atlanta has been. I didn’t even have to knock on the door. It was just open and everyone inside was like ‘Yo girl\, c’mon in! We got cake!’”  \nTICKETING & RESERVATION INFO: \nPurchasing a General Admission ticket does not guarantee a seat/table. \nAdditional reservations are not required if a table\, booth or banquette have been purchased via Ticketfly. \nPLEASE NOTE: If earlier dinner reservations are made\, your seats are not guaranteed for the show. For example\, you may not be able to reserve a table at 7:00pm and keep it for a 9:00pm show. The only way to guarantee a seat for the show is to purchase booth or banquette tickets. Reservations for some table (4-top) seating may be available at www.venkmans.com (see “Reservations”)\, or by calling 470-225-6162. \nBar area and patio seating is reserved on a first-come\, first-serve basis. \nReservations for the Captain’s Room (private dining room) can be reserved for parties of 12-20 guests. For more info call 470-225-6162.
URL:https://venkmans.com/event/ansley-stewart-album-release-with-special-guest-rick-lollar/
CATEGORIES:Music
END:VEVENT
END:VCALENDAR