BEGIN:VCALENDAR
VERSION:2.0
PRODID:-//Venkman&#039;s | 740 Ralph McGill Blvd. - ECPv5.16.1.1//NONSGML v1.0//EN
CALSCALE:GREGORIAN
METHOD:PUBLISH
X-ORIGINAL-URL:https://venkmans.com
X-WR-CALDESC:Events for Venkman&#039;s | 740 Ralph McGill Blvd.
REFRESH-INTERVAL;VALUE=DURATION:PT1H
X-Robots-Tag:noindex
X-PUBLISHED-TTL:PT1H
BEGIN:VTIMEZONE
TZID:America/New_York
BEGIN:DAYLIGHT
TZOFFSETFROM:-0500
TZOFFSETTO:-0400
TZNAME:EDT
DTSTART:20170312T070000
END:DAYLIGHT
BEGIN:STANDARD
TZOFFSETFROM:-0400
TZOFFSETTO:-0500
TZNAME:EST
DTSTART:20171105T060000
END:STANDARD
END:VTIMEZONE
BEGIN:VEVENT
DTSTART;TZID=America/New_York:20170304T103000
DTEND;TZID=America/New_York:20170304T121500
DTSTAMP:20260424T022847
CREATED:20170124T160511Z
LAST-MODIFIED:20170305T051454Z
UID:18605-1488623400-1488629700@venkmans.com
SUMMARY:Princess Brunch: The Little Mermaid
DESCRIPTION:Make your friends at Venkman’s ‘Part of Your World’ on March 4th\, 18th\, and 25th for three very special screenings of the Disney classic\, Little Mermaid. Enjoy a royal brunch feast ‘Under the Sea’ complete with Little Mermosa drinks specials for the adult kids. \nTICKETING & RESERVATION INFO: \nTickets are not available for FREE shows. For seating at a FREE show\, please make reservations for the appropriate time at www.venkmans.com (see “Reservations”)\, or by calling 470-225-6162.
URL:https://venkmans.com/event/princess-brunch-the-little-mermaid/
CATEGORIES:Music
END:VEVENT
BEGIN:VEVENT
DTSTART;TZID=America/New_York:20170304T130000
DTEND;TZID=America/New_York:20170304T150000
DTSTAMP:20260424T022847
CREATED:20170210T215951Z
LAST-MODIFIED:20170305T051454Z
UID:18645-1488632400-1488639600@venkmans.com
SUMMARY:Chicken Pickin' Brunch with Wyatt Espalin
DESCRIPTION:With the Ocoee River in East Tennessee as the backdrop\, and North Georgia on the horizon\, Wyatt Espalin’s debut album\, The Pardon (April\, 2013)\, was born. Entertaining audiences in his hometown of Hiawassee\, Georgia as early as age eleven\, Wyatt’s passion for music was obvious\, even from the barn room stage built by his grandfather. He and his brother Matt were known as “The Fiddling Brothers.” While Matt hung up his fiddle and bow after high school\, Wyatt was just getting started. Armed with a guitar and a desire to write songs\, he paired with Cobi Ferguson to form the acclaimed Americana duo\, Trees Leave. Combining electric guitar with traditional bluegrass roots led to a noticeably unique sound and a growing fan base. Having years of touring under their belts and two successful albums\, Run (2008) and The Gospel of Hurt (2010)\, it was time for Cobi to settle down\, and Wyatt to find a new setting fit for a more personal level of songwriting. So alone began his sabbatical to the Ocoee\, and his debut album\, The Pardon\, which in ten songs provides ten glimpses into breakups\, burdens\, colorful britches\, and the light on the other side of it all.
URL:https://venkmans.com/event/chicken-pickin-brunch-with-wyatt-espalin/
CATEGORIES:Music
END:VEVENT
BEGIN:VEVENT
DTSTART;TZID=America/New_York:20170304T183000
DTEND;TZID=America/New_York:20170304T203000
DTSTAMP:20260424T022847
CREATED:20170210T220700Z
LAST-MODIFIED:20170305T051454Z
UID:18648-1488652200-1488659400@venkmans.com
SUMMARY:EARLY SHOW: Haraway Brothers
DESCRIPTION:Will and Lee Haraway have led rock n roll band The Sundogs for more than 15 years in Atlanta\, releasing three well-acclaimed albums and playing shows all over the Southeast that feature a sound most often compared Tom Petty and the Heartbreakers\, The Black Crowes and The Band. For duo shows\, the Haraway Brothers strip down their songs to the basest elements- story\, melody\, vocals and rhythm– featuring both their own songwriting along with influences that vary from Bruce Springsteen and Patterson Hood to Lionel Richie and Kenny Rogers. They play music that tells a story and is more than a little fun to drink along to. www.sundogs.net. \nTICKETING & RESERVATION INFO: \nTickets are not available for FREE shows. For seating at a FREE show\, please make reservations for the appropriate time at www.venkmans.com (see “Reservations”)\, or by calling 470-225-6162.
URL:https://venkmans.com/event/early-show-haraway-brothers/
CATEGORIES:Music
END:VEVENT
BEGIN:VEVENT
DTSTART;TZID=America/New_York:20170304T213000
DTEND;TZID=America/New_York:20170304T213000
DTSTAMP:20260424T022847
CREATED:20170210T230006Z
LAST-MODIFIED:20170305T051454Z
UID:18651-1488663000-1488663000@venkmans.com
SUMMARY:The Mar-Tans
DESCRIPTION:The Mar-Tans were founded by keyboardist/singer Matt Wauchope\, drummer Terrence Prather\, and Melvin Zachery on bass. They were the long time rhythm section of Sean Costello. They toured and recorded with Sean\, traveling through 48 states\, Western Europe\, and Scandinavia. Playing in Sean’s band allowed them the opportunity to play with blues legends such as Jody Williams\, Hubert Sumlin\, Pinetop Perkins\, James Cotton\, and Elvis Costello. They played on three of Sean’s CD’s in addition to numerous local sessions including the Grammy-Award winning gospel act\, the Blind Boy’s of Alabama.  \nThe horn section is made up of accomplished musicians who are band leaders in their own right. On trombone and vocals is Jonathon Lloyd who also fronts the reggae band Lloyd’s Rock Steady Review. Saxophonist/singer Will Scruggs is also the leader of organ group CC Booker III.  The band plays New Orleans Funk and R&B along the lines of Professor Longhair and the Funky Meters. We also mix in Memphis Soul\, originals\, jazz\, blues\, and latin. The band’s first CD\, “Repurpose”\, was released in April of 2012.  Jam Band and percussion legend Count M’Butu joined the band for a year and a half before his retirement to Argentina in 2014.  The band is hard at work on their next recording due out in 2015. \nTICKETING & RESERVATION INFO: \nPurchasing a General Admission ticket does not guarantee a seat/table. Bar area seating is reserved on a first-come\, first-serve basis. \nAdditional reservations are not required if table\, booth\, or banquette tickets have been purchased via Ticketfly. \nPLEASE NOTE: If earlier dinner reservations are made\, your seats are not guaranteed for the show. For example\, if you reserve seats for 7:30pm dinner\, it is unlikely that you’ll be able to keep it for a 9:30pm show. The only way to guarantee a seat for the show is to purchase booth\, table\, or banquette tickets via Ticketfly. \nReservations for the Captain’s Room (private dining room) can be reserved for parties of 12-20 guests. For more info call 470-225-6162.
URL:https://venkmans.com/event/the-mar-tans/
CATEGORIES:Music
END:VEVENT
END:VCALENDAR