BEGIN:VCALENDAR
VERSION:2.0
PRODID:-//Venkman&#039;s | 740 Ralph McGill Blvd. - ECPv5.16.1.1//NONSGML v1.0//EN
CALSCALE:GREGORIAN
METHOD:PUBLISH
X-ORIGINAL-URL:https://venkmans.com
X-WR-CALDESC:Events for Venkman&#039;s | 740 Ralph McGill Blvd.
REFRESH-INTERVAL;VALUE=DURATION:PT1H
X-Robots-Tag:noindex
X-PUBLISHED-TTL:PT1H
BEGIN:VTIMEZONE
TZID:America/New_York
BEGIN:DAYLIGHT
TZOFFSETFROM:-0500
TZOFFSETTO:-0400
TZNAME:EDT
DTSTART:20170312T070000
END:DAYLIGHT
BEGIN:STANDARD
TZOFFSETFROM:-0400
TZOFFSETTO:-0500
TZNAME:EST
DTSTART:20171105T060000
END:STANDARD
END:VTIMEZONE
BEGIN:VEVENT
DTSTART;TZID=America/New_York:20170224T183000
DTEND;TZID=America/New_York:20170224T203000
DTSTAMP:20260424T021237
CREATED:20170113T172413Z
LAST-MODIFIED:20170225T051330Z
UID:18512-1487961000-1487968200@venkmans.com
SUMMARY:EARLY SHOW: Michael Magno
DESCRIPTION:Magno – derived from the Latin adjective magna\, meaning “of greatness”… Somewhere in the definition\, Michael Magno inherited the drive to become a serious singer/songwriter. Spoon-fed his influences by radio-loving parents\, Michael wrote his first song at age 14 and never looked back. By today’s standards\, you can compare him to such contemporaries as Bruno Mars and OneRepublic\, with a smooth vocal reminiscent of Sting or Marvin Gaye. In 1998\, the Florida native transplanted to Atlanta and began performing his originals solo acoustic or with the his band\, MAGNO. He quickly gained popularity at such venues as Eddie’s Attic\, Smith’s Olde Bar and other music rooms around Atlanta. His sound is an organic blend of rock and soul\, with an undeniable pop sensibility. Drawing inspiration from coffee and 80’s radio\, Magno’s songs are a personal invite into familiarity. His songs convey broad takes on love and hope\, while letting his listeners embrace the lyrics in their own singularity. Live performances showcase Magno’s natural abilities: lucid vocals\, comfort on guitar and piano\, an alluring demeanor and boy-next-door smile. With every show\, Magno continues to draw a growing fan base\, validating his stride as a serious songwriter and performer. Find him on Facebook\, Twitter and Instagram @mrmagnomusic \nTICKETING & RESERVATION INFO: \nTickets are not available for FREE shows. For seating at a FREE show\, please make reservations for the appropriate time at www.venkmans.com (see “Reservations”)\, or by calling 470-225-6162.
URL:https://venkmans.com/event/early-show-michael-magno/
CATEGORIES:Music
END:VEVENT
BEGIN:VEVENT
DTSTART;TZID=America/New_York:20170224T213000
DTEND;TZID=America/New_York:20170224T213000
DTSTAMP:20260424T021237
CREATED:20170113T165525Z
LAST-MODIFIED:20170225T051330Z
UID:18499-1487971800-1487971800@venkmans.com
SUMMARY:Good Times Brass Band
DESCRIPTION:Bring together one of the most awesome collections of touring musicians in the world and what do you have? Namely The Good Times Brass Band! Undoubtedly\, you have seen these gentlemen performing individually with some of the biggest names in the music industry from Mary J Blige\, Jill Scott\, Anita Baker and Tyler Perry to New Edition\, Patti LaBelle and Ne-Yo\, and now they have combined their immense talents to form a group that is sure to get you up on your feet with high quality musicianship\, infectious rhythms…and FUN! \nThe band has appeared on two Bravo reality shows\, “I Dream of NeNe\, The Wedding” and “The New Atlanta.” The Good Times Brass Band Horn Section has also made TV appearances in the house bands for the 2011 Dove Awards\, the 2013 – 2016 Trumpet Awards\, the 2015 McDonald’s 365 Black Awards on BET\, Seasons 6\, 7\, and 8 of BET’s Sunday Best\, and numerous Tyler Perry productions. They have recorded with Kelly Rowland\, Lecrae\, Arrested Development\, PJ Morton\, Jennifer Holliday\, Avery Sunshine and many others… \nTICKETING & RESERVATION INFO: \nPurchasing a General Admission ticket does not guarantee a seat/table. Table reservations can be made at venkmans.com (see “Reservations”)\, or by calling 470-225-6162. \nBar area seating is first-come\, first-serve. \nAdditional reservations are not required if a booth or banquette has been purchased via Ticketfly. \nPLEASE NOTE: If earlier dinner reservations are made\, your seats are not guaranteed for the show. For example\, if you reserve seats for 7:00pm dinner\, it is unlikely that you’ll be able to keep it for a 9:30pm show. The only way to guarantee a seat for the show is to purchase booth\, table\, banquette\, or Captain’s Table tickets via Ticketfly. \nReservations for the Captain’s Room (private dining room) can be reserved for parties of 12-20 guests. For more info call 470-225-6162.
URL:https://venkmans.com/event/good-times-brass-band/
CATEGORIES:Music
END:VEVENT
BEGIN:VEVENT
DTSTART;TZID=America/New_York:20170225T103000
DTEND;TZID=America/New_York:20170225T121500
DTSTAMP:20260424T021237
CREATED:20170122T011820Z
LAST-MODIFIED:20170226T051306Z
UID:18603-1488018600-1488024900@venkmans.com
SUMMARY:Princess Brunch: Princess and the Frog
DESCRIPTION:Dust off the crown and jewels and join us at the V for a princess party featuring one of the jazziest animated hits of all time. We’ll be celebrating the Mardi Gras season with Princess Tiana and Prince Naveen in this Disney classic set in New Orleans.   \nFrom the kitchen will be offering a royal brunch feast. Princess specials TBA! \nTICKETING & RESERVATION INFO: \nTickets are not available for FREE shows. For seating at a FREE show\, please make reservations for the appropriate time at www.venkmans.com (see “Reservations”)\, or by calling 470-225-6162.
URL:https://venkmans.com/event/princess-brunch-princess-and-the-frog/
CATEGORIES:Music
END:VEVENT
END:VCALENDAR