BEGIN:VCALENDAR
VERSION:2.0
PRODID:-//Venkman&#039;s | 740 Ralph McGill Blvd. - ECPv5.16.1.1//NONSGML v1.0//EN
CALSCALE:GREGORIAN
METHOD:PUBLISH
X-WR-CALNAME:Venkman&#039;s | 740 Ralph McGill Blvd.
X-ORIGINAL-URL:https://venkmans.com
X-WR-CALDESC:Events for Venkman&#039;s | 740 Ralph McGill Blvd.
REFRESH-INTERVAL;VALUE=DURATION:PT1H
X-Robots-Tag:noindex
X-PUBLISHED-TTL:PT1H
BEGIN:VTIMEZONE
TZID:America/New_York
BEGIN:DAYLIGHT
TZOFFSETFROM:-0500
TZOFFSETTO:-0400
TZNAME:EDT
DTSTART:20170312T070000
END:DAYLIGHT
BEGIN:STANDARD
TZOFFSETFROM:-0400
TZOFFSETTO:-0500
TZNAME:EST
DTSTART:20171105T060000
END:STANDARD
END:VTIMEZONE
BEGIN:VEVENT
DTSTART;TZID=America/New_York:20170218T103000
DTEND;TZID=America/New_York:20170218T121500
DTSTAMP:20260424T022707
CREATED:20170124T193248Z
LAST-MODIFIED:20170219T051309Z
UID:18614-1487413800-1487420100@venkmans.com
SUMMARY:Princess Brunch: Princess and the Frog
DESCRIPTION:Dust off the crown and jewels and join us at the V for a princess party featuring one of the jazziest animated hits of all time. We’ll be celebrating the Mardi Gras season with Princess Tiana and Prince Naveen in this Disney classic set in New Orleans.   \nFrom the kitchen will be offering a royal brunch feast. Princess specials TBA! \nTICKETING & RESERVATION INFO: \nTickets are not available for FREE shows. For seating at a FREE show\, please make reservations for the appropriate time at www.venkmans.com (see “Reservations”)\, or by calling 470-225-6162.
URL:https://venkmans.com/event/princess-brunch-princess-and-the-frog-2/
CATEGORIES:Music
END:VEVENT
BEGIN:VEVENT
DTSTART;TZID=America/New_York:20170218T130000
DTEND;TZID=America/New_York:20170218T150000
DTSTAMP:20260424T022707
CREATED:20170113T172410Z
LAST-MODIFIED:20170219T051309Z
UID:18508-1487422800-1487430000@venkmans.com
SUMMARY:Chicken Pickin' Brunch w/ Midnight Revival
DESCRIPTION:“Midnight revival is sorta like some scrappy old pawn shop. They just take all that old shit nobody pays much attention to anymore\, jumble it all together\, and put it back on the rack. After a brief dusting of course. and sure\, the price is cheap. ” – Andy \nTICKETING & RESERVATION INFO: \nTickets are not available for FREE shows. For seating at a FREE show\, please make reservations for the appropriate time at www.venkmans.com (see “Reservations”)\, or by calling 470-225-6162.
URL:https://venkmans.com/event/chicken-pickin-brunch-w-midnight-revival-2/
CATEGORIES:Music
END:VEVENT
BEGIN:VEVENT
DTSTART;TZID=America/New_York:20170218T183000
DTEND;TZID=America/New_York:20170218T203000
DTSTAMP:20260424T022707
CREATED:20170113T172412Z
LAST-MODIFIED:20170219T051309Z
UID:18510-1487442600-1487449800@venkmans.com
SUMMARY:EARLY SHOW: How and Why
DESCRIPTION:Atlanta indie folk singer-songwriters Michael Hudgins and Lindsay Rakers come together to form acoustic duo How and Why. \nTICKETING & RESERVATION INFO: \nTickets are not available for FREE shows. For seating at a FREE show\, please make reservations for the appropriate time at www.venkmans.com (see “Reservations”)\, or by calling 470-225-6162.
URL:https://venkmans.com/event/early-show-how-and-why/
CATEGORIES:Music
END:VEVENT
BEGIN:VEVENT
DTSTART;TZID=America/New_York:20170218T213000
DTEND;TZID=America/New_York:20170218T213000
DTSTAMP:20260424T022707
CREATED:20161229T051447Z
LAST-MODIFIED:20170219T051309Z
UID:18275-1487453400-1487453400@venkmans.com
SUMMARY:Georgia Soul Council
DESCRIPTION:Join Georgia Soul Council in celebrating the release of their new album “What’s For Breakfast” \nGeorgia Soul Council originally came together in Atlanta as the backing unit for singer Otis Redding III in 2010. The sound was old-school and funky modern soul. After that gig ended\, the band stayed together and evolved toward the jazz end of the spectrum\, while never losing their gritty Southern roots or taut\, danceable compositions. Weaving jazz-funk and elements of Afrobeat into their sound\, they wrote and played dynamic charts that featured individual solos\, chanted vocals\, and interlocking grooves to create a hypnotic\, intoxicating hybrid all their own. After establishing a solid and reliable reputation in their home state as a go-to live unit\, they toured the southeast as an opening act for Antibalas\, Lee Fields & the Expressions\, Rebirth Brass Band\, and many more. Their debut album\, Thickens Upon Standing\, was released in the summer of 2013 to universal critical acclaim. ~ Thom Jurek \nTICKETING & RESERVATION INFO: \nPurchasing a General Admission ticket does not guarantee a seat/table. Bar and patio area seating is first-come\, first-serve. \nAdditional reservations are not required if a booth\, banquette\, or communal seat has been purchased via Ticketfly. \nPLEASE NOTE: If earlier dinner reservations are made\, your seats are not guaranteed for the show. For example\, it is unlikely to keep a table reserved at 7:30pm for a 9:30pm show. \nReservations for the Captain’s Room (private dining room) can be reserved for parties of 12-20 guests. For more info call 470-225-6162.
URL:https://venkmans.com/event/georgia-soul-council-3/
CATEGORIES:Music
END:VEVENT
END:VCALENDAR