BEGIN:VCALENDAR
VERSION:2.0
PRODID:-//Venkman&#039;s | 740 Ralph McGill Blvd. - ECPv5.16.1.1//NONSGML v1.0//EN
CALSCALE:GREGORIAN
METHOD:PUBLISH
X-WR-CALNAME:Venkman&#039;s | 740 Ralph McGill Blvd.
X-ORIGINAL-URL:https://venkmans.com
X-WR-CALDESC:Events for Venkman&#039;s | 740 Ralph McGill Blvd.
REFRESH-INTERVAL;VALUE=DURATION:PT1H
X-Robots-Tag:noindex
X-PUBLISHED-TTL:PT1H
BEGIN:VTIMEZONE
TZID:America/New_York
BEGIN:DAYLIGHT
TZOFFSETFROM:-0500
TZOFFSETTO:-0400
TZNAME:EDT
DTSTART:20170312T070000
END:DAYLIGHT
BEGIN:STANDARD
TZOFFSETFROM:-0400
TZOFFSETTO:-0500
TZNAME:EST
DTSTART:20171105T060000
END:STANDARD
END:VTIMEZONE
BEGIN:VEVENT
DTSTART;TZID=America/New_York:20170214T173000
DTEND;TZID=America/New_York:20170214T213000
DTSTAMP:20260424T035136
CREATED:20170109T170525Z
LAST-MODIFIED:20170213T234159Z
UID:18311-1487093400-1487107800@venkmans.com
SUMMARY:Valentine's Day Prix Fixe Dinner at Venkman's
DESCRIPTION:Dinner service begins at 5:30pm – band will play from 7-9:30pm. \nFebruary 14\, 2017 is fast approaching. Executive Chef Nick Melvin’s prix fixe Valentine’s Day dinner menu sets the stage for a romantic night and comes complete with with live music from Le Grand Fromage. LGF features continental sounds with a classic jazz attitude. If you’re sharing the day with someone special\, make your dinner reservations soon! \nReservations are $65 per person\, or $215 for a party of 4. Supplemental wine pairings available upon arrival for an additional $25 per person. Tax is included in the price of the dinner. Gratuity is not included and will be applied to the your bill at the end of your visit. \nPrix fixe menu: \nCourse 1\nRazor Clam Crudo: Chowder Vinaigrette\, Green Garlic Aioli\, Fried Sourdough\nor\nGriddled Cheese: Halloumi\, Curry Honey Butter\, 1/2 Sour Cucumbers\, Saffron Vinaigrette\, Olive Bread \nCourse 2\nLyonnaise Salad: Bitter Greens\, House Coppa\, Sorghum Mustard Vinaigrette\, Calabraian Chile 6 Minute Egg\nor\nSavannah Shrimp Roll: Uni Mayonnaise\, Celery Lemon Salad\, Little Tater Chips\, New Bay Brioche \nCourse 3\nSouth Carolina Quail: Fermented Lentil Stew\, Grapefruit Dukkah\, Mint\, Chamomile Froth\nor\nSeared Scallop: Jefferson Red Rice\, Pickled Sunchoke\, Fermented Crab Butter \nCourse 4\nGelato Sandwich: Cornmeal Snickerdoodle Cookie\, Foie Gras and Salted Caramel Gelato\nor\nImpossible Cake: Chocolate Cake\, Flan\, Dulce de Leche \nThe above menu will also be available A la Carte in the bar and communal table areas. \nSecure your reservations today by phone at 470-225-6162\, or email at info@venkmans.com. \nCANCELLATION POLICY:\nYour reservations are very important to the Venkman’s team\, it is reserved especially for you\, and we understand that sometimes schedules adjustments are necessary; therefore\, we respectfully request at least 24 hours notice for cancellations. \nPlease understand that when you forget or cancel your reservation without giving enough notice\, we miss the opportunity to fill that reservation time\, and customers on our waiting list miss the opportunity to receive an awesome dining experience. Our reservations are confirmed 48 hours in advance because we know how easy it is to forget an appointment you booked weeks ago. Cancellations given less than 24 hour notice\, or NO SHOWS\, may result in a charge equal to 50% of the prix fixe dinner amount.
URL:https://venkmans.com/event/valentines-day-dinner-venkmans/
CATEGORIES:Music
END:VEVENT
END:VCALENDAR