BEGIN:VCALENDAR
VERSION:2.0
PRODID:-//Venkman&#039;s | 740 Ralph McGill Blvd. - ECPv5.16.1.1//NONSGML v1.0//EN
CALSCALE:GREGORIAN
METHOD:PUBLISH
X-WR-CALNAME:Venkman&#039;s | 740 Ralph McGill Blvd.
X-ORIGINAL-URL:https://venkmans.com
X-WR-CALDESC:Events for Venkman&#039;s | 740 Ralph McGill Blvd.
REFRESH-INTERVAL;VALUE=DURATION:PT1H
X-Robots-Tag:noindex
X-PUBLISHED-TTL:PT1H
BEGIN:VTIMEZONE
TZID:America/New_York
BEGIN:DAYLIGHT
TZOFFSETFROM:-0500
TZOFFSETTO:-0400
TZNAME:EDT
DTSTART:20170312T070000
END:DAYLIGHT
BEGIN:STANDARD
TZOFFSETFROM:-0400
TZOFFSETTO:-0500
TZNAME:EST
DTSTART:20171105T060000
END:STANDARD
END:VTIMEZONE
BEGIN:VEVENT
DTSTART;TZID=America/New_York:20170212T123000
DTEND;TZID=America/New_York:20170212T150000
DTSTAMP:20260424T021423
CREATED:20161229T202353Z
LAST-MODIFIED:20170213T051319Z
UID:18283-1486902600-1486911600@venkmans.com
SUMMARY:Bottomless Mimosa Brunch w/ Nico Lembo Trio
DESCRIPTION:Nico Lembo was born and raised in Clearwater\, Florida and began playing drums at age 11 at the insistence of his father.  He attended college at the University of North Florida in Jacksonville in 2006\, where he received instruction from world-renowned drummer Danny Gottlieb.  Under Danny’s tutelage\, Nico developed a refined sense of groove\, musicianship\, and technique.  In 2008\, Nico had the great honor of performing at Carnegie Hall in New York City with the UNF Wind Ensemble\, and upon graduating in 2010\, lent his talents to many Jacksonville area bands performing live shows and recordings.  He has recorded with Jacksonville artists Saltwater Grass\, Toots Lorraine and the Traffic\, and Brady Clampitt\, along with the UNF Jazz Ensemble 2 and UNF combo 1.  As a member of Saltwater Grass\, he played across the southeast\, including multiple festivals at the Spirit of the Suwannee Music Park in Live Oak\, Florida.  2013 brought a location change to Atlanta\, Georgia where he immediately began working with members of Grammy award winning band Arrested Development\, and with the award winning corporate band the Emerald Empire Band.  He currently lives and works in the Atlanta area. \nTICKETING & RESERVATION INFO: \nTickets are not available for FREE shows. For seating at a FREE show\, please make reservations for the appropriate time at www.venkmans.com (see “Reservations”)\, or by calling 470-225-6162.
URL:https://venkmans.com/event/bottomless-mimosa-brunch-w-nico-lembo-trio-8/
CATEGORIES:Music
END:VEVENT
BEGIN:VEVENT
DTSTART;TZID=America/New_York:20170212T193000
DTEND;TZID=America/New_York:20170212T193000
DTSTAMP:20260424T021423
CREATED:20170119T051457Z
LAST-MODIFIED:20170213T051319Z
UID:18586-1486927800-1486927800@venkmans.com
SUMMARY:Yacht Rock Revue Unplugged
DESCRIPTION:You’re welcome! The Yacht Rock Revue™ is the Greatest Show on Surf and the finest tribute to ‘70s light rock to ever perform anywhere.  Ever.  Their spot-on renditions of Hall & Oates\, Michael McDonald\, Steely Dan\, and the rest of the Time-Life Infomercial Catalog have enthralled fans across the United States.  It goes without saying they have taken their act to the high seas\, performing showcase sets on music cruises with Weezer\, Kid Rock\, Train\, Zac Brown Band\, Sister Hazel\, and fitness guru Jillian Michaels.  \nBy blurring the lines between a tribute\, an original act\, and a comedic troupe\, the Yacht Rock Revue™ has forged a unique niche market and a special bond with their fans.  The band attacks each song as if it were their own\, and the energy exchanged between the band and the crowd has more in common with a stadium U2 show than that of a typical bar band.  \nThe band has won accolades ranging from “Best Place to Get Drunk With Your Dad” to “Best Overall Music Act in Atlanta” to “Best Place to Start an Extramarital Affair\,” and has been name-dropped by the New York Times\, Pitchfork\, the Guardian UK\, Spin\, TimeOut New York\, Billboard\, MTV.com\, and (probably) your mom at her last cocktail party.  \nSpeaking of name-dropping\, members of the band have played on-stage with members of Weezer\, Billy Joel\, Walter Egan\, .38 Special\, John Mayer\, Zac Brown Band\, Little River Band\, Sheryl Crow\, Noel Gallagher\, Starbuck\, Sarah McLachlan\, Don Henley\, Lynyrd Skynyrd\, Neil Finn\, Jellyfish\, Devo\, Nine Inch Nails\, Joan Jett\, Wet Willie\, Bon Jovi\, Skid Row\, and the Saturday Night Live Band.  (None of those were a joke.) \nTICKETING & RESERVATION INFO: \nThis is a completely seated show. General Admission tickets are not available. \nReservations for the Captain’s Room (private dining room) can be reserved for parties of 12-20 guests. For more info call 470-225-6162.
URL:https://venkmans.com/event/yacht-rock-revue-unplugged/
CATEGORIES:Music
END:VEVENT
END:VCALENDAR