BEGIN:VCALENDAR
VERSION:2.0
PRODID:-//Venkman&#039;s | 740 Ralph McGill Blvd. - ECPv5.16.1.1//NONSGML v1.0//EN
CALSCALE:GREGORIAN
METHOD:PUBLISH
X-ORIGINAL-URL:https://venkmans.com
X-WR-CALDESC:Events for Venkman&#039;s | 740 Ralph McGill Blvd.
REFRESH-INTERVAL;VALUE=DURATION:PT1H
X-Robots-Tag:noindex
X-PUBLISHED-TTL:PT1H
BEGIN:VTIMEZONE
TZID:America/New_York
BEGIN:DAYLIGHT
TZOFFSETFROM:-0500
TZOFFSETTO:-0400
TZNAME:EDT
DTSTART:20170312T070000
END:DAYLIGHT
BEGIN:STANDARD
TZOFFSETFROM:-0400
TZOFFSETTO:-0500
TZNAME:EST
DTSTART:20171105T060000
END:STANDARD
END:VTIMEZONE
BEGIN:VEVENT
DTSTART;TZID=America/New_York:20170211T110000
DTEND;TZID=America/New_York:20170211T114500
DTSTAMP:20260424T045555
CREATED:20161229T193931Z
LAST-MODIFIED:20170212T051352Z
UID:18277-1486810800-1486813500@venkmans.com
SUMMARY:PUPPET BRUNCH! The Reluctant Dragon
DESCRIPTION:Princess Penepole loves to read about dragons. Imagine her surprise when she actually meets and befriends a dragon! Their introduction coincides with the arrival of a much-touted dragon slayer\, Sir Reginal Thwebes. Upon discovering the potential threat of a dragon in the palace\, King Rhubarb charges Sir Reginald to fight the dragon. Will it be a fight to the death? Will it be a draw? Will they even fight at all? Find out in All Hands Productions version of “The Reluctant Dragon.” Loosely based on Kenneth Grahame’s book\, this production utilizes colorful moving-mouth hand puppets and rod puppets to tell a story about friendship and understanding. Puppets created by David Stephens and costumes by Sottie Rowell. This show was funded in part by a 2008 Jim Henson Foundation Family Grant. \nTICKETING/RESERVATION INFO:\nYour ticket serves as your brunch reservation. Additional arrangements are not required once tickets are purchased. For special seating requests\, please call 470-225-6162
URL:https://venkmans.com/event/puppet-brunch-the-reluctant-dragon-4/
CATEGORIES:Music
END:VEVENT
BEGIN:VEVENT
DTSTART;TZID=America/New_York:20170211T123000
DTEND;TZID=America/New_York:20170211T143000
DTSTAMP:20260424T045555
CREATED:20161229T201624Z
LAST-MODIFIED:20170212T051352Z
UID:18281-1486816200-1486823400@venkmans.com
SUMMARY:Chicken Pickin' Brunch with Banjolicious
DESCRIPTION:TICKETING & RESERVATION INFO: \nTickets are not available for FREE shows. For seating at a FREE show\, please make reservations for the appropriate time at www.venkmans.com (see “Reservations”)\, or by calling 470-225-6162.
URL:https://venkmans.com/event/chicken-pickin-brunch-with-banjolicious-3/
CATEGORIES:Music
END:VEVENT
BEGIN:VEVENT
DTSTART;TZID=America/New_York:20170211T173000
DTEND;TZID=America/New_York:20170211T230000
DTSTAMP:20260424T045555
CREATED:20170113T165515Z
LAST-MODIFIED:20170113T165515Z
UID:18498-1486834200-1486854000@venkmans.com
SUMMARY:CLOSED for Evening Private Event
DESCRIPTION:We are closed this evening for a private event. \nAre you interested in hosting your private event at the V? We are too! Our space is available for large parties and private functions. Email us at info@venkmans.com\, or call 470-225-6162 for more details.
URL:https://venkmans.com/event/closed-evening-private-event/
END:VEVENT
END:VCALENDAR