BEGIN:VCALENDAR
VERSION:2.0
PRODID:-//Venkman&#039;s | 740 Ralph McGill Blvd. - ECPv5.16.1.1//NONSGML v1.0//EN
CALSCALE:GREGORIAN
METHOD:PUBLISH
X-ORIGINAL-URL:https://venkmans.com
X-WR-CALDESC:Events for Venkman&#039;s | 740 Ralph McGill Blvd.
REFRESH-INTERVAL;VALUE=DURATION:PT1H
X-Robots-Tag:noindex
X-PUBLISHED-TTL:PT1H
BEGIN:VTIMEZONE
TZID:America/New_York
BEGIN:DAYLIGHT
TZOFFSETFROM:-0500
TZOFFSETTO:-0400
TZNAME:EDT
DTSTART:20170312T070000
END:DAYLIGHT
BEGIN:STANDARD
TZOFFSETFROM:-0400
TZOFFSETTO:-0500
TZNAME:EST
DTSTART:20171105T060000
END:STANDARD
END:VTIMEZONE
BEGIN:VEVENT
DTSTART;TZID=America/New_York:20170210T183000
DTEND;TZID=America/New_York:20170210T203000
DTSTAMP:20260424T021721
CREATED:20170113T172404Z
LAST-MODIFIED:20170211T051553Z
UID:18506-1486751400-1486758600@venkmans.com
SUMMARY:EARLY SHOW: Acoustic Weezer w/ Braxton O'Neal
DESCRIPTION:Braxton has been in the Atlanta music since for over 20 years. He currently fronts the Weezer tribute band El Scorcho and his cover band Braxton & The Renditions\, but he also spends time writing and recording his own original material. \nTICKETING & RESERVATION INFO: \nNO MUSIC CHARGE! \nTickets are not available for FREE shows. For seating at a FREE show\, please make reservations for the appropriate time at www.venkmans.com (see “Reservations”)\, or by calling 470-225-6162.
URL:https://venkmans.com/event/early-show-acoustic-weezer-w-braxton-oneal/
CATEGORIES:Music
END:VEVENT
BEGIN:VEVENT
DTSTART;TZID=America/New_York:20170210T213000
DTEND;TZID=America/New_York:20170210T213000
DTSTAMP:20260424T021721
CREATED:20161230T223031Z
LAST-MODIFIED:20170211T051553Z
UID:18288-1486762200-1486762200@venkmans.com
SUMMARY:ATL Collective relives Sade's Love Deluxe
DESCRIPTION:We are thrilled to welcome back ATL Collective on February 10th for their Valentine’s Eve re-creation of the smooth and sexy sounds of Sade’s Love Deluxe. Curated by Khari Cabral Simmons – lineup includes Brenda Nicole Moorer\, Lola Cole\, Cleveland Jones & more! \nIf you’ve not seen a Collective presentation before\, it’s really like nothing else going on. They carefully select the finest albums and hand pick the best talent to perform those albums from top to bottom\, complete with food and beverage tie ins and storytelling about the artist and the album and the times it was released in. Check them out at www.alt-collective.com \nTICKETING & RESERVATION INFO: \nPurchasing a General Admission ticket does not guarantee a seat/table. Table seating is considered General Admission. Table reservations can be made at venkmans.com (see “Reservations”)\, or by calling 470-225-6162. \nBar area seating is first-come\, first-serve. \nAdditional reservations are not required if a booth or banquette has been purchased via Ticketfly. \nPLEASE NOTE: If earlier dinner reservations are made\, your seats are not guaranteed for the show. For example\, it is unlikely to reserve a table at 7:30pm and keep it for a 9:30pm show. The only way to guarantee a seat for the show is to purchase table\, booth or banquette tickets. \nReservations for the Captain’s Room (private dining room) can be reserved for parties of 12-20 guests. For more info call 470-225-6162.
URL:https://venkmans.com/event/atl-collective-relives-sades-love-deluxe/
CATEGORIES:Music
END:VEVENT
END:VCALENDAR