BEGIN:VCALENDAR
VERSION:2.0
PRODID:-//Venkman&#039;s | 740 Ralph McGill Blvd. - ECPv5.16.1.1//NONSGML v1.0//EN
CALSCALE:GREGORIAN
METHOD:PUBLISH
X-WR-CALNAME:Venkman&#039;s | 740 Ralph McGill Blvd.
X-ORIGINAL-URL:https://venkmans.com
X-WR-CALDESC:Events for Venkman&#039;s | 740 Ralph McGill Blvd.
REFRESH-INTERVAL;VALUE=DURATION:PT1H
X-Robots-Tag:noindex
X-PUBLISHED-TTL:PT1H
BEGIN:VTIMEZONE
TZID:America/New_York
BEGIN:DAYLIGHT
TZOFFSETFROM:-0500
TZOFFSETTO:-0400
TZNAME:EDT
DTSTART:20170312T070000
END:DAYLIGHT
BEGIN:STANDARD
TZOFFSETFROM:-0400
TZOFFSETTO:-0500
TZNAME:EST
DTSTART:20171105T060000
END:STANDARD
END:VTIMEZONE
BEGIN:VEVENT
DTSTART;TZID=America/New_York:20170203T190000
DTEND;TZID=America/New_York:20170203T210000
DTSTAMP:20260424T010446
CREATED:20170113T172401Z
LAST-MODIFIED:20170204T051518Z
UID:18502-1486148400-1486155600@venkmans.com
SUMMARY:Acoustic Beatles by Nick Niespodziani & Tim Smith
DESCRIPTION:Back by popular demand\, Acoustic Beatles by Nick from Yacht Rock! Joined with very special guest\, Tim Smith\, of The Producers\, Jellyfish\, and Noah Gallagher and The High Flying Birds! Join us early on for solo acoustic versions of Beatles favorites. For this portion of the show\, Nick & Tim will be taking requests via crayon drawings (crayons and index cards provided) so bring your inner 3rd-grade artist to help curate the show! \nTICKETING & RESERVATION INFO: \nTickets are not available for FREE shows. For seating at a FREE show\, please make reservations for the appropriate time at www.venkmans.com (see “Reservations”)\, or by calling 470-225-6162.
URL:https://venkmans.com/event/acoustic-beatles-by-nick-niespodziani-tim-smith/
CATEGORIES:Music
END:VEVENT
BEGIN:VEVENT
DTSTART;TZID=America/New_York:20170203T213000
DTEND;TZID=America/New_York:20170203T213000
DTSTAMP:20260424T010446
CREATED:20170118T051307Z
LAST-MODIFIED:20170204T051518Z
UID:18584-1486157400-1486157400@venkmans.com
SUMMARY:Escape Vehicle + The Rainmen
DESCRIPTION:With a musical styling that incorporates the sounds of Traffic\, J.J. Cale\, Drivin’ n’ Cryin’\, Widespread Panic\, Grateful Dead\, and The Allman Brothers with just a touch of outlaw country\, the members of Escape Vehicle have been brewing their batch of gritty\, down-home\, whiskey-drenched rock n’ roll in and around the southeastern United States since 2001. Their solid reputation as a soulful\, hard-working band with honest tunes and a fanbase that’s always looking to hit the dance floor makes for a raucous live experience that leaves both newcomers and diehards screaming for more. Having shared the stage with the likes of Col. Bruce Hampton\, Jeff Mosier\, Count M’butu\, Railroad Earth\, Bloodkin\, Particle\, Tea Leaf Green\, Blueground Undergrass\, Outformation/The Sam Holt Band\, Tinsley Ellis\, and Coy Bowles & the Fellowship (of the Zac Brown Band)\, the Vehicle prides itself on its professionalism and high caliber musicianship. This band thrives and survives in a live setting in collaboration with a willing audience. With one studio release under our belt and another album of originals slated for a spring 2014 release\, we invite you to come out to our next show so that our music can speak for itself. \nTICKETING & RESERVATION INFO: \nPurchasing a General Admission ticket does not guarantee a seat/table. Table reservations can be made at venkmans.com (see “Reservations”)\, or by calling 470-225-6162. \nBar area seating is first-come\, first-serve. \nAdditional reservations are not required if a booth or banquette has been purchased via Ticketfly. \nPLEASE NOTE: If earlier dinner reservations are made\, your seats are not guaranteed for the show. For example\, if you reserve seats for 7:00pm dinner\, it is unlikely that you’ll be able to keep it for a 9:30pm show. The only way to guarantee a seat for the show is to purchase booth\, table\, banquette\, or Captain’s Table tickets via Ticketfly. \nReservations for the Captain’s Room (private dining room) can be reserved for parties of 12-20 guests. For more info call 470-225-6162.
URL:https://venkmans.com/event/escape-vehicle/
CATEGORIES:Music
END:VEVENT
BEGIN:VEVENT
DTSTART;TZID=America/New_York:20170204T103000
DTEND;TZID=America/New_York:20170204T123000
DTSTAMP:20260424T010446
CREATED:20170106T160059Z
LAST-MODIFIED:20170205T051432Z
UID:18300-1486204200-1486211400@venkmans.com
SUMMARY:Princess Brunch: FROZEN Sing-a-long
DESCRIPTION:Dust off the crown and jewels and join us at the V for a sing-a-long party featuring one of the “coolest” animated hits of all-time. This musical experience invites audiences of all ages to sit back\, “Let it Go\,” and sing along with this special interactive screening of Disney’s beloved musical\, FROZEN. Advance reservations are encouraged for this event. \nFrom the kitchen will be offering a royal brunch feast\, including Princess Flapjacks for the little ones.  \nTICKETING & RESERVATION INFO: \nTickets are not available for FREE shows. For seating at a FREE show\, please make reservations for the appropriate time at www.venkmans.com (see “Reservations”)\, or by calling 470-225-6162.
URL:https://venkmans.com/event/princess-brunch-frozen-sing-a-long-5/
CATEGORIES:Music
END:VEVENT
END:VCALENDAR