BEGIN:VCALENDAR
VERSION:2.0
PRODID:-//Venkman&#039;s | 740 Ralph McGill Blvd. - ECPv5.16.1.1//NONSGML v1.0//EN
CALSCALE:GREGORIAN
METHOD:PUBLISH
X-WR-CALNAME:Venkman&#039;s | 740 Ralph McGill Blvd.
X-ORIGINAL-URL:https://venkmans.com
X-WR-CALDESC:Events for Venkman&#039;s | 740 Ralph McGill Blvd.
REFRESH-INTERVAL;VALUE=DURATION:PT1H
X-Robots-Tag:noindex
X-PUBLISHED-TTL:PT1H
BEGIN:VTIMEZONE
TZID:America/New_York
BEGIN:DAYLIGHT
TZOFFSETFROM:-0500
TZOFFSETTO:-0400
TZNAME:EDT
DTSTART:20160313T070000
END:DAYLIGHT
BEGIN:STANDARD
TZOFFSETFROM:-0400
TZOFFSETTO:-0500
TZNAME:EST
DTSTART:20161106T060000
END:STANDARD
END:VTIMEZONE
BEGIN:VEVENT
DTSTART;TZID=America/New_York:20161103T180000
DTEND;TZID=America/New_York:20161103T200000
DTSTAMP:20260424T010446
CREATED:20160927T175608Z
LAST-MODIFIED:20161006T163857Z
UID:17704-1478196000-1478203200@venkmans.com
SUMMARY:Creature Comforts Fall Harvest Beer Dinner
DESCRIPTION:Are you ready for a truly original beer dinner? Creature Comforts is bringing their exciting lineup of fall beers to Venkman’s\, where Executive Chef Nick Melvin will be serving a four-course\, fully vegetarian menu. Live music from local artist\, Michael Chesin\, will feature Neil Young’s Harvest + other Neil Young hits. Tickets are limited – book now so you don’t get left out in the November cold! \nMENU: \nCourse 1) Popcorn Beets: Green Curry Ranch \nCourse 2) Baked Bleu Cheesecake: Pickled Mushrooms\, Smoked Honey\, Spiced Pecans \nCourse 3) MAPO Eggplant: Eggplant Sformata\, Fried Pickled Eggplant\, Baby Bok Choy\, Pea Shoots \nCourse 4) Roasted Acorn Squash: Sticky Toffee Pudding\, Toasted Coconut Gelato\, Coconut Jam\, Seed Streusal
URL:https://venkmans.com/event/creature-comforts-fall-harvest-beer-dinner/
CATEGORIES:Dinner
END:VEVENT
END:VCALENDAR