BEGIN:VCALENDAR
VERSION:2.0
PRODID:-//Venkman&#039;s | 740 Ralph McGill Blvd. - ECPv5.16.1.1//NONSGML v1.0//EN
CALSCALE:GREGORIAN
METHOD:PUBLISH
X-ORIGINAL-URL:https://venkmans.com
X-WR-CALDESC:Events for Venkman&#039;s | 740 Ralph McGill Blvd.
REFRESH-INTERVAL;VALUE=DURATION:PT1H
X-Robots-Tag:noindex
X-PUBLISHED-TTL:PT1H
BEGIN:VTIMEZONE
TZID:America/New_York
BEGIN:DAYLIGHT
TZOFFSETFROM:-0500
TZOFFSETTO:-0400
TZNAME:EDT
DTSTART:20160313T070000
END:DAYLIGHT
BEGIN:STANDARD
TZOFFSETFROM:-0400
TZOFFSETTO:-0500
TZNAME:EST
DTSTART:20161106T060000
END:STANDARD
END:VTIMEZONE
BEGIN:VEVENT
DTSTART;TZID=America/New_York:20160827T140000
DTEND;TZID=America/New_York:20160827T170000
DTSTAMP:20260424T051342
CREATED:20160713T180515Z
LAST-MODIFIED:20170702T151004Z
UID:17143-1472306400-1472317200@venkmans.com
SUMMARY:Swine\, Wine\, and Sunshine Festival
DESCRIPTION:Say your tearful goodbyes to rosé season the right way this year: with wine\, swine and sunshine. Get wine on tap\, see a whole pig roast\, turn that pig into pork tacos\, hear live music and play games out under the sun at Venkman’s \n\n\nAll you can eat pig roast\nEverything you need to make that pig into pork tacos\nThree cocktails\, glasses of wine or beer featuring Heaven Hill Bourbon cocktails\, rosé and Creature Comforts Athena Paradiso: Passionfruit and Guava\nLive tunes from acoustic duo How and Why\nA photo booth\, so you can remember this day forever\nYard games like corn hole to challenge your fellow revelers\n$45 pre-sale\n$49 day of\n\n\nOfferings:\nWhole Roasted Athens Hog (Fed on Creature Comforts Spent Grain)\nCorn and Flour Tortillas\nEsquites Salad\nPickled Pineapple Salad\nCabbage and Chile Escabeche\nRoasted Poblano Queso Fundito\nNegor Frijoles\nCrema\nSalsa Roja\nSalsa Verde\nSmoked Guacamole\nCrispy Tortillas
URL:https://venkmans.com/event/swine-wine-sunshine-festival/
ATTACH;FMTTYPE=image/jpeg:https://venkmans.com/wp-content/uploads/Swine-Wine-Facebook.jpg
END:VEVENT
END:VCALENDAR